{"text_format":"1","workbook":"xlsx","n_sheets":7,"sheets":["Anleitung","Vereinsanmeldung","Personenerfassung","Gruppenübersicht","Auswahlfelder","Altersstufe","Hilfsliste_Gruppen"],"not_rendered":{"charts":0,"images":3,"macros":1,"external_links":0,"defined_names":5,"comments":1,"pivot_tables":0},"unopened":[],"bounds":{"document_bytes":16777216,"sheet_cells":100000,"rows_first":2000,"rows_last":500,"rows_between":2000,"halvings":0,"cell_chars":16384,"cell_head_chars":4096},"cells_cut":0,"cells_raw":0,"read":"whole","date_system":"1900"}

{"sheet":"Anleitung","index":0,"n_rows":33,"n_cols":4,"rows_kept":33,"cut":false,"hidden":false,"merged":[[10,1,11,7],[13,1,14,7]]}
[]
[]
[null,null,null,"Verband"]
[null,null,null,"der Sportschützen Zürich"]
[null,null,null,"und Umgebung"]
[]
[]
["Anleitung Anmeldung Verbandsschiessen"]
[]
[]
["1)","Datei zuerst öffnen und abspeichern, sofern noch nicht lokal gespeichert. Die Sicherheitswarnung (gelb) \"Inhalt aktivieren\" (dies ist für die automatischen Funktionen zwingend notwendig) bestätigen."]
[]
["2)","Beim Erfassen Daten nicht mit Drag&Drop verschieben!"]
[null,"(Ansonsten funktioniert es nicht mehr - falls irrtümlich doch gemacht, mit \"Rückgänig\" wieder richtig stellen.)"]
[]
["3)","Vereinsanmeldung ausfüllen"]
[null,"° bei Teilnahme am Gruppenwettkampf; Anzahl Gruppen eingeben"]
[null,"° anschliessend pro Gruppe einen Namen erfassen"]
[]
["4)","Schützen inkl. Lizenz-Nr. und Stellung in Register Personenerfassung ausfüllen"]
[null,"° pro Schütze Gruppenzuteilung machen (1,2,3,4 oder 5)"]
[null,"° wenn alle Schützen erfass sind, mit Button alphabetisch sortieren lassen"]
[null,"  (wenn ein Schütze nachträglich ergänzt wird nochmals sortieren)"]
[]
["5)","Datei abspeichern und als Excel-Datei (nicht PDF) per Mail an SSGW schicken"]
[]
["6)","Falls gewünscht, kann mit Button auf Deckblatt alles ausgedruckt werden"]
[]
[]
["Bei Fragen oder Problemen bitte melden"]
[]
["Michael Glaus, SSG Wallisellen"]
["michael.glaus@ssgw.ch"]

{"sheet":"Vereinsanmeldung","index":1,"n_rows":44,"n_cols":7,"rows_kept":44,"cut":false,"hidden":false,"merged":[[35,2,35,6],[37,2,37,6],[39,2,39,6],[41,2,41,6],[43,2,43,6],[23,2,23,6],[27,2,27,3],[27,5,27,6],[18,2,18,5],[21,2,21,5],[25,2,25,5]]}
[]
[]
[]
[]
[]
[]
["Verband"]
["der Sportschützen Zürich"]
["und Umgebung"]
[]
[]
[]
["VERBANDSSCHIESSEN"]
["Vereins-Anmeldung",null,null,null,null,null,2024]
[]
[]
[]
[]
["Name des Vereins:"]
[]
[]
["Vereins-Funktionär:"]
[]
["Adresse:"]
[]
["Mail:"]
[]
["Telefon","tagsüber:",null,null,"abends:"]
[]
[]
[]
[]
["Anzahl Gruppen:"]
[]
[]
["Name Gruppe    1:"]
[]
["Name Gruppe    2:"]
[]
["Name Gruppe    3:"]
[]
["Name Gruppe    4:"]
[]
["Name Gruppe    5:"]

{"sheet":"Personenerfassung","index":2,"n_rows":39,"n_cols":29,"rows_kept":39,"cut":false,"hidden":false,"merged":[[0,4,0,8],[2,7,3,7],[2,5,3,5],[2,0,3,0],[2,1,3,1],[2,3,3,3],[2,4,3,4],[2,6,3,6]]}
["Erfassung Schützen von:",null,null,null,{"$f":"IF(Vereinsanmeldung!C19=\"\",\"\",Vereinsanmeldung!C19)","v":""}]
[]
["Nr.","Grp-Nr.",null,"Lizenznummer","Name","Vorname","Jg","V/J","frei"]
[null,null,null,null,null,null,null,null,"aufg.",null,null,null,null,null,1,2,3,4,5,1,2,3,4,5,1,2,3,4,5]
[0]
[{"$f":"A5+1","v":1},null,{"$f":"SUM(Y6:AC6)","v":0},null,null,null,null,{"$f":"VLOOKUP(G6,Altersstufe!$E$6:$F$94,2,FALSE)","v":" "},null,null,{"$f":"IF(OR(M6>0,D6>0),\"\",\"Lizenznummer fehlt !!!\")","v":""},{"$f":"IF(OR(M6>0,I6>0),\"\",\"Angabe Stellung fehlt !!!\")","v":""},{"$f":"IF(E6>\"\",0,1)","v":1},{"$f":"B6-ROW()/100","v":-0.06},{"$f":"IF(AND(N6<1,N6>0),N6,\"\")","v":""},{"$f":"IF(AND(N6<2,N6>1),N6,\"\")","v":""},{"$f":"IF(AND(N6<3,N6>2),N6,\"\")","v":""},{"$f":"IF(AND(N6<4,N6>3),N6,\"\")","v":""},{"$f":"IF(AND(N6<5,N6>4),N6,\"\")","v":""},{"$f":"IF(O6=\"\",\"\",RANK(O6,$O$6:$O$35))","v":""},{"$f":"IF(P6=\"\",\"\",RANK(P6,$P$6:$P$35))","v":""},{"$f":"IF(Q6=\"\",\"\",RANK(Q6,$Q$5:$Q$34))","v":""},{"$f":"IF(R6=\"\",\"\",RANK(R6,$R$5:$R$34))","v":""},{"$f":"IF(S6=\"\",\"\",RANK(S6,$S$5:$S$34))","v":""},{"$f":"IF(T6=\"\",\"\",T6/10+1)","v":""},{"$f":"IF(U6=\"\",\"\",U6/10+2)","v":""},{"$f":"IF(V6=\"\",\"\",V6/10+3)","v":""},{"$f":"IF(W6=\"\",\"\",W6/10+4)","v":""},{"$f":"IF(X6=\"\",\"\",X6/10+5)","v":""}]
[{"$f":"A6+1","v":2},null,{"$f":"SUM(Y7:AC7)","v":0},null,null,null,null,{"$f":"VLOOKUP(G7,Altersstufe!$E$6:$F$94,2,FALSE)","v":" "},null,null,{"$f":"IF(OR(M7>0,D7>0),\"\",\"Lizenznummer fehlt !!!\")","v":""},{"$f":"IF(OR(M7>0,I7>0),\"\",\"Angabe Stellung fehlt !!!\")","v":""},{"$f":"IF(E7>\"\",0,1)","v":1},{"$f":"B7-ROW()/100","v":-7.0000000000000007E-2},{"$f":"IF(AND(N7<1,N7>0),N7,\"\")","v":""},{"$f":"IF(AND(N7<2,N7>1),N7,\"\")","v":""},{"$f":"IF(AND(N7<3,N7>2),N7,\"\")","v":""},{"$f":"IF(AND(N7<4,N7>3),N7,\"\")","v":""},{"$f":"IF(AND(N7<5,N7>4),N7,\"\")","v":""},{"$f":"IF(O7=\"\",\"\",RANK(O7,$O$6:$O$35))","v":""},{"$f":"IF(P7=\"\",\"\",RANK(P7,$P$6:$P$35))","v":""},{"$f":"IF(Q7=\"\",\"\",RANK(Q7,$Q$5:$Q$34))","v":""},{"$f":"IF(R7=\"\",\"\",RANK(R7,$R$5:$R$34))","v":""},{"$f":"IF(S7=\"\",\"\",RANK(S7,$S$5:$S$34))","v":""},{"$f":"IF(T7=\"\",\"\",T7/10+1)","v":""},{"$f":"IF(U7=\"\",\"\",U7/10+2)","v":""},{"$f":"IF(V7=\"\",\"\",V7/10+3)","v":""},{"$f":"IF(W7=\"\",\"\",W7/10+4)","v":""},{"$f":"IF(X7=\"\",\"\",X7/10+5)","v":""}]
[{"$f":"A7+1","v":3},null,{"$f":"SUM(Y8:AC8)","v":0},null,null,null,null,{"$f":"VLOOKUP(G8,Altersstufe!$E$6:$F$94,2,FALSE)","v":" "},null,null,{"$f":"IF(OR(M8>0,D8>0),\"\",\"Lizenznummer fehlt !!!\")","v":""},{"$f":"IF(OR(M8>0,I8>0),\"\",\"Angabe Stellung fehlt !!!\")","v":""},{"$f":"IF(E8>\"\",0,1)","v":1},{"$f":"B8-ROW()/100","v":-0.08},{"$f":"IF(AND(N8<1,N8>0),N8,\"\")","v":""},{"$f":"IF(AND(N8<2,N8>1),N8,\"\")","v":""},{"$f":"IF(AND(N8<3,N8>2),N8,\"\")","v":""},{"$f":"IF(AND(N8<4,N8>3),N8,\"\")","v":""},{"$f":"IF(AND(N8<5,N8>4),N8,\"\")","v":""},{"$f":"IF(O8=\"\",\"\",RANK(O8,$O$6:$O$35))","v":""},{"$f":"IF(P8=\"\",\"\",RANK(P8,$P$6:$P$35))","v":""},{"$f":"IF(Q8=\"\",\"\",RANK(Q8,$Q$5:$Q$34))","v":""},{"$f":"IF(R8=\"\",\"\",RANK(R8,$R$5:$R$34))","v":""},{"$f":"IF(S8=\"\",\"\",RANK(S8,$S$5:$S$34))","v":""},{"$f":"IF(T8=\"\",\"\",T8/10+1)","v":""},{"$f":"IF(U8=\"\",\"\",U8/10+2)","v":""},{"$f":"IF(V8=\"\",\"\",V8/10+3)","v":""},{"$f":"IF(W8=\"\",\"\",W8/10+4)","v":""},{"$f":"IF(X8=\"\",\"\",X8/10+5)","v":""}]
[{"$f":"A8+1","v":4},null,{"$f":"SUM(Y9:AC9)","v":0},null,null,null,null,{"$f":"VLOOKUP(G9,Altersstufe!$E$6:$F$94,2,FALSE)","v":" "},null,null,{"$f":"IF(OR(M9>0,D9>0),\"\",\"Lizenznummer fehlt !!!\")","v":""},{"$f":"IF(OR(M9>0,I9>0),\"\",\"Angabe Stellung fehlt !!!\")","v":""},{"$f":"IF(E9>\"\",0,1)","v":1},{"$f":"B9-ROW()/100","v":-0.09},{"$f":"IF(AND(N9<1,N9>0),N9,\"\")","v":""},{"$f":"IF(AND(N9<2,N9>1),N9,\"\")","v":""},{"$f":"IF(AND(N9<3,N9>2),N9,\"\")","v":""},{"$f":"IF(AND(N9<4,N9>3),N9,\"\")","v":""},{"$f":"IF(AND(N9<5,N9>4),N9,\"\")","v":""},{"$f":"IF(O9=\"\",\"\",RANK(O9,$O$6:$O$35))","v":""},{"$f":"IF(P9=\"\",\"\",RANK(P9,$P$6:$P$35))","v":""},{"$f":"IF(Q9=\"\",\"\",RANK(Q9,$Q$5:$Q$34))","v":""},{"$f":"IF(R9=\"\",\"\",RANK(R9,$R$5:$R$34))","v":""},{"$f":"IF(S9=\"\",\"\",RANK(S9,$S$5:$S$34))","v":""},{"$f":"IF(T9=\"\",\"\",T9/10+1)","v":""},{"$f":"IF(U9=\"\",\"\",U9/10+2)","v":""},{"$f":"IF(V9=\"\",\"\",V9/10+3)","v":""},{"$f":"IF(W9=\"\",\"\",W9/10+4)","v":""},{"$f":"IF(X9=\"\",\"\",X9/10+5)","v":""}]
[{"$f":"A9+1","v":5},null,{"$f":"SUM(Y10:AC10)","v":0},null,null,null,null,{"$f":"VLOOKUP(G10,Altersstufe!$E$6:$F$94,2,FALSE)","v":" "},null,null,{"$f":"IF(OR(M10>0,D10>0),\"\",\"Lizenznummer fehlt !!!\")","v":""},{"$f":"IF(OR(M10>0,I10>0),\"\",\"Angabe Stellung fehlt !!!\")","v":""},{"$f":"IF(E10>\"\",0,1)","v":1},{"$f":"B10-ROW()/100","v":-0.1},{"$f":"IF(AND(N10<1,N10>0),N10,\"\")","v":""},{"$f":"IF(AND(N10<2,N10>1),N10,\"\")","v":""},{"$f":"IF(AND(N10<3,N10>2),N10,\"\")","v":""},{"$f":"IF(AND(N10<4,N10>3),N10,\"\")","v":""},{"$f":"IF(AND(N10<5,N10>4),N10,\"\")","v":""},{"$f":"IF(O10=\"\",\"\",RANK(O10,$O$6:$O$35))","v":""},{"$f":"IF(P10=\"\",\"\",RANK(P10,$P$6:$P$35))","v":""},{"$f":"IF(Q10=\"\",\"\",RANK(Q10,$Q$5:$Q$34))","v":""},{"$f":"IF(R10=\"\",\"\",RANK(R10,$R$5:$R$34))","v":""},{"$f":"IF(S10=\"\",\"\",RANK(S10,$S$5:$S$34))","v":""},{"$f":"IF(T10=\"\",\"\",T10/10+1)","v":""},{"$f":"IF(U10=\"\",\"\",U10/10+2)","v":""},{"$f":"IF(V10=\"\",\"\",V10/10+3)","v":""},{"$f":"IF(W10=\"\",\"\",W10/10+4)","v":""},{"$f":"IF(X10=\"\",\"\",X10/10+5)","v":""}]
[{"$f":"A10+1","v":6},null,{"$f":"SUM(Y11:AC11)","v":0},null,null,null,null,{"$f":"VLOOKUP(G11,Altersstufe!$E$6:$F$94,2,FALSE)","v":" "},null,null,{"$f":"IF(OR(M11>0,D11>0),\"\",\"Lizenznummer fehlt !!!\")","v":""},{"$f":"IF(OR(M11>0,I11>0),\"\",\"Angabe Stellung fehlt !!!\")","v":""},{"$f":"IF(E11>\"\",0,1)","v":1},{"$f":"B11-ROW()/100","v":-0.11},{"$f":"IF(AND(N11<1,N11>0),N11,\"\")","v":""},{"$f":"IF(AND(N11<2,N11>1),N11,\"\")","v":""},{"$f":"IF(AND(N11<3,N11>2),N11,\"\")","v":""},{"$f":"IF(AND(N11<4,N11>3),N11,\"\")","v":""},{"$f":"IF(AND(N11<5,N11>4),N11,\"\")","v":""},{"$f":"IF(O11=\"\",\"\",RANK(O11,$O$6:$O$35))","v":""},{"$f":"IF(P11=\"\",\"\",RANK(P11,$P$6:$P$35))","v":""},{"$f":"IF(Q11=\"\",\"\",RANK(Q11,$Q$5:$Q$34))","v":""},{"$f":"IF(R11=\"\",\"\",RANK(R11,$R$5:$R$34))","v":""},{"$f":"IF(S11=\"\",\"\",RANK(S11,$S$5:$S$34))","v":""},{"$f":"IF(T11=\"\",\"\",T11/10+1)","v":""},{"$f":"IF(U11=\"\",\"\",U11/10+2)","v":""},{"$f":"IF(V11=\"\",\"\",V11/10+3)","v":""},{"$f":"IF(W11=\"\",\"\",W11/10+4)","v":""},{"$f":"IF(X11=\"\",\"\",X11/10+5)","v":""}]
[{"$f":"A11+1","v":7},null,{"$f":"SUM(Y12:AC12)","v":0},null,null,null,null,{"$f":"VLOOKUP(G12,Altersstufe!$E$6:$F$94,2,FALSE)","v":" "},null,null,{"$f":"IF(OR(M12>0,D12>0),\"\",\"Lizenznummer fehlt !!!\")","v":""},{"$f":"IF(OR(M12>0,I12>0),\"\",\"Angabe Stellung fehlt !!!\")","v":""},{"$f":"IF(E12>\"\",0,1)","v":1},{"$f":"B12-ROW()/100","v":-0.12},{"$f":"IF(AND(N12<1,N12>0),N12,\"\")","v":""},{"$f":"IF(AND(N12<2,N12>1),N12,\"\")","v":""},{"$f":"IF(AND(N12<3,N12>2),N12,\"\")","v":""},{"$f":"IF(AND(N12<4,N12>3),N12,\"\")","v":""},{"$f":"IF(AND(N12<5,N12>4),N12,\"\")","v":""},{"$f":"IF(O12=\"\",\"\",RANK(O12,$O$6:$O$35))","v":""},{"$f":"IF(P12=\"\",\"\",RANK(P12,$P$6:$P$35))","v":""},{"$f":"IF(Q12=\"\",\"\",RANK(Q12,$Q$5:$Q$34))","v":""},{"$f":"IF(R12=\"\",\"\",RANK(R12,$R$5:$R$34))","v":""},{"$f":"IF(S12=\"\",\"\",RANK(S12,$S$5:$S$34))","v":""},{"$f":"IF(T12=\"\",\"\",T12/10+1)","v":""},{"$f":"IF(U12=\"\",\"\",U12/10+2)","v":""},{"$f":"IF(V12=\"\",\"\",V12/10+3)","v":""},{"$f":"IF(W12=\"\",\"\",W12/10+4)","v":""},{"$f":"IF(X12=\"\",\"\",X12/10+5)","v":""}]
[{"$f":"A12+1","v":8},null,{"$f":"SUM(Y13:AC13)","v":0},null,null,null,null,{"$f":"VLOOKUP(G13,Altersstufe!$E$6:$F$94,2,FALSE)","v":" "},null,null,{"$f":"IF(OR(M13>0,D13>0),\"\",\"Lizenznummer fehlt !!!\")","v":""},{"$f":"IF(OR(M13>0,I13>0),\"\",\"Angabe Stellung fehlt !!!\")","v":""},{"$f":"IF(E13>\"\",0,1)","v":1},{"$f":"B13-ROW()/100","v":-0.13},{"$f":"IF(AND(N13<1,N13>0),N13,\"\")","v":""},{"$f":"IF(AND(N13<2,N13>1),N13,\"\")","v":""},{"$f":"IF(AND(N13<3,N13>2),N13,\"\")","v":""},{"$f":"IF(AND(N13<4,N13>3),N13,\"\")","v":""},{"$f":"IF(AND(N13<5,N13>4),N13,\"\")","v":""},{"$f":"IF(O13=\"\",\"\",RANK(O13,$O$6:$O$35))","v":""},{"$f":"IF(P13=\"\",\"\",RANK(P13,$P$6:$P$35))","v":""},{"$f":"IF(Q13=\"\",\"\",RANK(Q13,$Q$5:$Q$34))","v":""},{"$f":"IF(R13=\"\",\"\",RANK(R13,$R$5:$R$34))","v":""},{"$f":"IF(S13=\"\",\"\",RANK(S13,$S$5:$S$34))","v":""},{"$f":"IF(T13=\"\",\"\",T13/10+1)","v":""},{"$f":"IF(U13=\"\",\"\",U13/10+2)","v":""},{"$f":"IF(V13=\"\",\"\",V13/10+3)","v":""},{"$f":"IF(W13=\"\",\"\",W13/10+4)","v":""},{"$f":"IF(X13=\"\",\"\",X13/10+5)","v":""}]
[{"$f":"A13+1","v":9},null,{"$f":"SUM(Y14:AC14)","v":0},null,null,null,null,{"$f":"VLOOKUP(G14,Altersstufe!$E$6:$F$94,2,FALSE)","v":" "},null,null,{"$f":"IF(OR(M14>0,D14>0),\"\",\"Lizenznummer fehlt !!!\")","v":""},{"$f":"IF(OR(M14>0,I14>0),\"\",\"Angabe Stellung fehlt !!!\")","v":""},{"$f":"IF(E14>\"\",0,1)","v":1},{"$f":"B14-ROW()/100","v":-0.14000000000000001},{"$f":"IF(AND(N14<1,N14>0),N14,\"\")","v":""},{"$f":"IF(AND(N14<2,N14>1),N14,\"\")","v":""},{"$f":"IF(AND(N14<3,N14>2),N14,\"\")","v":""},{"$f":"IF(AND(N14<4,N14>3),N14,\"\")","v":""},{"$f":"IF(AND(N14<5,N14>4),N14,\"\")","v":""},{"$f":"IF(O14=\"\",\"\",RANK(O14,$O$6:$O$35))","v":""},{"$f":"IF(P14=\"\",\"\",RANK(P14,$P$6:$P$35))","v":""},{"$f":"IF(Q14=\"\",\"\",RANK(Q14,$Q$5:$Q$34))","v":""},{"$f":"IF(R14=\"\",\"\",RANK(R14,$R$5:$R$34))","v":""},{"$f":"IF(S14=\"\",\"\",RANK(S14,$S$5:$S$34))","v":""},{"$f":"IF(T14=\"\",\"\",T14/10+1)","v":""},{"$f":"IF(U14=\"\",\"\",U14/10+2)","v":""},{"$f":"IF(V14=\"\",\"\",V14/10+3)","v":""},{"$f":"IF(W14=\"\",\"\",W14/10+4)","v":""},{"$f":"IF(X14=\"\",\"\",X14/10+5)","v":""}]
[{"$f":"A14+1","v":10},null,{"$f":"SUM(Y15:AC15)","v":0},null,null,null,null,{"$f":"VLOOKUP(G15,Altersstufe!$E$6:$F$94,2,FALSE)","v":" "},null,null,{"$f":"IF(OR(M15>0,D15>0),\"\",\"Lizenznummer fehlt !!!\")","v":""},{"$f":"IF(OR(M15>0,I15>0),\"\",\"Angabe Stellung fehlt !!!\")","v":""},{"$f":"IF(E15>\"\",0,1)","v":1},{"$f":"B15-ROW()/100","v":-0.15},{"$f":"IF(AND(N15<1,N15>0),N15,\"\")","v":""},{"$f":"IF(AND(N15<2,N15>1),N15,\"\")","v":""},{"$f":"IF(AND(N15<3,N15>2),N15,\"\")","v":""},{"$f":"IF(AND(N15<4,N15>3),N15,\"\")","v":""},{"$f":"IF(AND(N15<5,N15>4),N15,\"\")","v":""},{"$f":"IF(O15=\"\",\"\",RANK(O15,$O$6:$O$35))","v":""},{"$f":"IF(P15=\"\",\"\",RANK(P15,$P$6:$P$35))","v":""},{"$f":"IF(Q15=\"\",\"\",RANK(Q15,$Q$5:$Q$34))","v":""},{"$f":"IF(R15=\"\",\"\",RANK(R15,$R$5:$R$34))","v":""},{"$f":"IF(S15=\"\",\"\",RANK(S15,$S$5:$S$34))","v":""},{"$f":"IF(T15=\"\",\"\",T15/10+1)","v":""},{"$f":"IF(U15=\"\",\"\",U15/10+2)","v":""},{"$f":"IF(V15=\"\",\"\",V15/10+3)","v":""},{"$f":"IF(W15=\"\",\"\",W15/10+4)","v":""},{"$f":"IF(X15=\"\",\"\",X15/10+5)","v":""}]
[{"$f":"A15+1","v":11},null,{"$f":"SUM(Y16:AC16)","v":0},null,null,null,null,{"$f":"VLOOKUP(G16,Altersstufe!$E$6:$F$94,2,FALSE)","v":" "},null,null,{"$f":"IF(OR(M16>0,D16>0),\"\",\"Lizenznummer fehlt !!!\")","v":""},{"$f":"IF(OR(M16>0,I16>0),\"\",\"Angabe Stellung fehlt !!!\")","v":""},{"$f":"IF(E16>\"\",0,1)","v":1},{"$f":"B16-ROW()/100","v":-0.16},{"$f":"IF(AND(N16<1,N16>0),N16,\"\")","v":""},{"$f":"IF(AND(N16<2,N16>1),N16,\"\")","v":""},{"$f":"IF(AND(N16<3,N16>2),N16,\"\")","v":""},{"$f":"IF(AND(N16<4,N16>3),N16,\"\")","v":""},{"$f":"IF(AND(N16<5,N16>4),N16,\"\")","v":""},{"$f":"IF(O16=\"\",\"\",RANK(O16,$O$6:$O$35))","v":""},{"$f":"IF(P16=\"\",\"\",RANK(P16,$P$6:$P$35))","v":""},{"$f":"IF(Q16=\"\",\"\",RANK(Q16,$Q$5:$Q$34))","v":""},{"$f":"IF(R16=\"\",\"\",RANK(R16,$R$5:$R$34))","v":""},{"$f":"IF(S16=\"\",\"\",RANK(S16,$S$5:$S$34))","v":""},{"$f":"IF(T16=\"\",\"\",T16/10+1)","v":""},{"$f":"IF(U16=\"\",\"\",U16/10+2)","v":""},{"$f":"IF(V16=\"\",\"\",V16/10+3)","v":""},{"$f":"IF(W16=\"\",\"\",W16/10+4)","v":""},{"$f":"IF(X16=\"\",\"\",X16/10+5)","v":""}]
[{"$f":"A16+1","v":12},null,{"$f":"SUM(Y17:AC17)","v":0},null,null,null,null,{"$f":"VLOOKUP(G17,Altersstufe!$E$6:$F$94,2,FALSE)","v":" "},null,null,{"$f":"IF(OR(M17>0,D17>0),\"\",\"Lizenznummer fehlt !!!\")","v":""},{"$f":"IF(OR(M17>0,I17>0),\"\",\"Angabe Stellung fehlt !!!\")","v":""},{"$f":"IF(E17>\"\",0,1)","v":1},{"$f":"B17-ROW()/100","v":-0.17},{"$f":"IF(AND(N17<1,N17>0),N17,\"\")","v":""},{"$f":"IF(AND(N17<2,N17>1),N17,\"\")","v":""},{"$f":"IF(AND(N17<3,N17>2),N17,\"\")","v":""},{"$f":"IF(AND(N17<4,N17>3),N17,\"\")","v":""},{"$f":"IF(AND(N17<5,N17>4),N17,\"\")","v":""},{"$f":"IF(O17=\"\",\"\",RANK(O17,$O$6:$O$35))","v":""},{"$f":"IF(P17=\"\",\"\",RANK(P17,$P$6:$P$35))","v":""},{"$f":"IF(Q17=\"\",\"\",RANK(Q17,$Q$5:$Q$34))","v":""},{"$f":"IF(R17=\"\",\"\",RANK(R17,$R$5:$R$34))","v":""},{"$f":"IF(S17=\"\",\"\",RANK(S17,$S$5:$S$34))","v":""},{"$f":"IF(T17=\"\",\"\",T17/10+1)","v":""},{"$f":"IF(U17=\"\",\"\",U17/10+2)","v":""},{"$f":"IF(V17=\"\",\"\",V17/10+3)","v":""},{"$f":"IF(W17=\"\",\"\",W17/10+4)","v":""},{"$f":"IF(X17=\"\",\"\",X17/10+5)","v":""}]
[{"$f":"A17+1","v":13},null,{"$f":"SUM(Y18:AC18)","v":0},null,null,null,null,{"$f":"VLOOKUP(G18,Altersstufe!$E$6:$F$94,2,FALSE)","v":" "},null,null,{"$f":"IF(OR(M18>0,D18>0),\"\",\"Lizenznummer fehlt !!!\")","v":""},{"$f":"IF(OR(M18>0,I18>0),\"\",\"Angabe Stellung fehlt !!!\")","v":""},{"$f":"IF(E18>\"\",0,1)","v":1},{"$f":"B18-ROW()/100","v":-0.18},{"$f":"IF(AND(N18<1,N18>0),N18,\"\")","v":""},{"$f":"IF(AND(N18<2,N18>1),N18,\"\")","v":""},{"$f":"IF(AND(N18<3,N18>2),N18,\"\")","v":""},{"$f":"IF(AND(N18<4,N18>3),N18,\"\")","v":""},{"$f":"IF(AND(N18<5,N18>4),N18,\"\")","v":""},{"$f":"IF(O18=\"\",\"\",RANK(O18,$O$6:$O$35))","v":""},{"$f":"IF(P18=\"\",\"\",RANK(P18,$P$6:$P$35))","v":""},{"$f":"IF(Q18=\"\",\"\",RANK(Q18,$Q$5:$Q$34))","v":""},{"$f":"IF(R18=\"\",\"\",RANK(R18,$R$5:$R$34))","v":""},{"$f":"IF(S18=\"\",\"\",RANK(S18,$S$5:$S$34))","v":""},{"$f":"IF(T18=\"\",\"\",T18/10+1)","v":""},{"$f":"IF(U18=\"\",\"\",U18/10+2)","v":""},{"$f":"IF(V18=\"\",\"\",V18/10+3)","v":""},{"$f":"IF(W18=\"\",\"\",W18/10+4)","v":""},{"$f":"IF(X18=\"\",\"\",X18/10+5)","v":""}]
[{"$f":"A18+1","v":14},null,{"$f":"SUM(Y19:AC19)","v":0},null,null,null,null,{"$f":"VLOOKUP(G19,Altersstufe!$E$6:$F$94,2,FALSE)","v":" "},null,null,{"$f":"IF(OR(M19>0,D19>0),\"\",\"Lizenznummer fehlt !!!\")","v":""},{"$f":"IF(OR(M19>0,I19>0),\"\",\"Angabe Stellung fehlt !!!\")","v":""},{"$f":"IF(E19>\"\",0,1)","v":1},{"$f":"B19-ROW()/100","v":-0.19},{"$f":"IF(AND(N19<1,N19>0),N19,\"\")","v":""},{"$f":"IF(AND(N19<2,N19>1),N19,\"\")","v":""},{"$f":"IF(AND(N19<3,N19>2),N19,\"\")","v":""},{"$f":"IF(AND(N19<4,N19>3),N19,\"\")","v":""},{"$f":"IF(AND(N19<5,N19>4),N19,\"\")","v":""},{"$f":"IF(O19=\"\",\"\",RANK(O19,$O$6:$O$35))","v":""},{"$f":"IF(P19=\"\",\"\",RANK(P19,$P$6:$P$35))","v":""},{"$f":"IF(Q19=\"\",\"\",RANK(Q19,$Q$5:$Q$34))","v":""},{"$f":"IF(R19=\"\",\"\",RANK(R19,$R$5:$R$34))","v":""},{"$f":"IF(S19=\"\",\"\",RANK(S19,$S$5:$S$34))","v":""},{"$f":"IF(T19=\"\",\"\",T19/10+1)","v":""},{"$f":"IF(U19=\"\",\"\",U19/10+2)","v":""},{"$f":"IF(V19=\"\",\"\",V19/10+3)","v":""},{"$f":"IF(W19=\"\",\"\",W19/10+4)","v":""},{"$f":"IF(X19=\"\",\"\",X19/10+5)","v":""}]
[{"$f":"A19+1","v":15},null,{"$f":"SUM(Y20:AC20)","v":0},null,null,null,null,{"$f":"VLOOKUP(G20,Altersstufe!$E$6:$F$94,2,FALSE)","v":" "},null,null,{"$f":"IF(OR(M20>0,D20>0),\"\",\"Lizenznummer fehlt !!!\")","v":""},{"$f":"IF(OR(M20>0,I20>0),\"\",\"Angabe Stellung fehlt !!!\")","v":""},{"$f":"IF(E20>\"\",0,1)","v":1},{"$f":"B20-ROW()/100","v":-0.2},{"$f":"IF(AND(N20<1,N20>0),N20,\"\")","v":""},{"$f":"IF(AND(N20<2,N20>1),N20,\"\")","v":""},{"$f":"IF(AND(N20<3,N20>2),N20,\"\")","v":""},{"$f":"IF(AND(N20<4,N20>3),N20,\"\")","v":""},{"$f":"IF(AND(N20<5,N20>4),N20,\"\")","v":""},{"$f":"IF(O20=\"\",\"\",RANK(O20,$O$6:$O$35))","v":""},{"$f":"IF(P20=\"\",\"\",RANK(P20,$P$6:$P$35))","v":""},{"$f":"IF(Q20=\"\",\"\",RANK(Q20,$Q$5:$Q$34))","v":""},{"$f":"IF(R20=\"\",\"\",RANK(R20,$R$5:$R$34))","v":""},{"$f":"IF(S20=\"\",\"\",RANK(S20,$S$5:$S$34))","v":""},{"$f":"IF(T20=\"\",\"\",T20/10+1)","v":""},{"$f":"IF(U20=\"\",\"\",U20/10+2)","v":""},{"$f":"IF(V20=\"\",\"\",V20/10+3)","v":""},{"$f":"IF(W20=\"\",\"\",W20/10+4)","v":""},{"$f":"IF(X20=\"\",\"\",X20/10+5)","v":""}]
[{"$f":"A20+1","v":16},null,{"$f":"SUM(Y21:AC21)","v":0},null,null,null,null,{"$f":"VLOOKUP(G21,Altersstufe!$E$6:$F$94,2,FALSE)","v":" "},null,null,{"$f":"IF(OR(M21>0,D21>0),\"\",\"Lizenznummer fehlt !!!\")","v":""},{"$f":"IF(OR(M21>0,I21>0),\"\",\"Angabe Stellung fehlt !!!\")","v":""},{"$f":"IF(E21>\"\",0,1)","v":1},{"$f":"B21-ROW()/100","v":-0.21},{"$f":"IF(AND(N21<1,N21>0),N21,\"\")","v":""},{"$f":"IF(AND(N21<2,N21>1),N21,\"\")","v":""},{"$f":"IF(AND(N21<3,N21>2),N21,\"\")","v":""},{"$f":"IF(AND(N21<4,N21>3),N21,\"\")","v":""},{"$f":"IF(AND(N21<5,N21>4),N21,\"\")","v":""},{"$f":"IF(O21=\"\",\"\",RANK(O21,$O$6:$O$35))","v":""},{"$f":"IF(P21=\"\",\"\",RANK(P21,$P$6:$P$35))","v":""},{"$f":"IF(Q21=\"\",\"\",RANK(Q21,$Q$5:$Q$34))","v":""},{"$f":"IF(R21=\"\",\"\",RANK(R21,$R$5:$R$34))","v":""},{"$f":"IF(S21=\"\",\"\",RANK(S21,$S$5:$S$34))","v":""},{"$f":"IF(T21=\"\",\"\",T21/10+1)","v":""},{"$f":"IF(U21=\"\",\"\",U21/10+2)","v":""},{"$f":"IF(V21=\"\",\"\",V21/10+3)","v":""},{"$f":"IF(W21=\"\",\"\",W21/10+4)","v":""},{"$f":"IF(X21=\"\",\"\",X21/10+5)","v":""}]
[{"$f":"A21+1","v":17},null,{"$f":"SUM(Y22:AC22)","v":0},null,null,null,null,{"$f":"VLOOKUP(G22,Altersstufe!$E$6:$F$94,2,FALSE)","v":" "},null,null,{"$f":"IF(OR(M22>0,D22>0),\"\",\"Lizenznummer fehlt !!!\")","v":""},{"$f":"IF(OR(M22>0,I22>0),\"\",\"Angabe Stellung fehlt !!!\")","v":""},{"$f":"IF(E22>\"\",0,1)","v":1},{"$f":"B22-ROW()/100","v":-0.22},{"$f":"IF(AND(N22<1,N22>0),N22,\"\")","v":""},{"$f":"IF(AND(N22<2,N22>1),N22,\"\")","v":""},{"$f":"IF(AND(N22<3,N22>2),N22,\"\")","v":""},{"$f":"IF(AND(N22<4,N22>3),N22,\"\")","v":""},{"$f":"IF(AND(N22<5,N22>4),N22,\"\")","v":""},{"$f":"IF(O22=\"\",\"\",RANK(O22,$O$6:$O$35))","v":""},{"$f":"IF(P22=\"\",\"\",RANK(P22,$P$6:$P$35))","v":""},{"$f":"IF(Q22=\"\",\"\",RANK(Q22,$Q$5:$Q$34))","v":""},{"$f":"IF(R22=\"\",\"\",RANK(R22,$R$5:$R$34))","v":""},{"$f":"IF(S22=\"\",\"\",RANK(S22,$S$5:$S$34))","v":""},{"$f":"IF(T22=\"\",\"\",T22/10+1)","v":""},{"$f":"IF(U22=\"\",\"\",U22/10+2)","v":""},{"$f":"IF(V22=\"\",\"\",V22/10+3)","v":""},{"$f":"IF(W22=\"\",\"\",W22/10+4)","v":""},{"$f":"IF(X22=\"\",\"\",X22/10+5)","v":""}]
[{"$f":"A22+1","v":18},null,{"$f":"SUM(Y23:AC23)","v":0},null,null,null,null,{"$f":"VLOOKUP(G23,Altersstufe!$E$6:$F$94,2,FALSE)","v":" "},null,null,{"$f":"IF(OR(M23>0,D23>0),\"\",\"Lizenznummer fehlt !!!\")","v":""},{"$f":"IF(OR(M23>0,I23>0),\"\",\"Angabe Stellung fehlt !!!\")","v":""},{"$f":"IF(E23>\"\",0,1)","v":1},{"$f":"B23-ROW()/100","v":-0.23},{"$f":"IF(AND(N23<1,N23>0),N23,\"\")","v":""},{"$f":"IF(AND(N23<2,N23>1),N23,\"\")","v":""},{"$f":"IF(AND(N23<3,N23>2),N23,\"\")","v":""},{"$f":"IF(AND(N23<4,N23>3),N23,\"\")","v":""},{"$f":"IF(AND(N23<5,N23>4),N23,\"\")","v":""},{"$f":"IF(O23=\"\",\"\",RANK(O23,$O$6:$O$35))","v":""},{"$f":"IF(P23=\"\",\"\",RANK(P23,$P$6:$P$35))","v":""},{"$f":"IF(Q23=\"\",\"\",RANK(Q23,$Q$5:$Q$34))","v":""},{"$f":"IF(R23=\"\",\"\",RANK(R23,$R$5:$R$34))","v":""},{"$f":"IF(S23=\"\",\"\",RANK(S23,$S$5:$S$34))","v":""},{"$f":"IF(T23=\"\",\"\",T23/10+1)","v":""},{"$f":"IF(U23=\"\",\"\",U23/10+2)","v":""},{"$f":"IF(V23=\"\",\"\",V23/10+3)","v":""},{"$f":"IF(W23=\"\",\"\",W23/10+4)","v":""},{"$f":"IF(X23=\"\",\"\",X23/10+5)","v":""}]
[{"$f":"A23+1","v":19},null,{"$f":"SUM(Y24:AC24)","v":0},null,null,null,null,{"$f":"VLOOKUP(G24,Altersstufe!$E$6:$F$94,2,FALSE)","v":" "},null,null,{"$f":"IF(OR(M24>0,D24>0),\"\",\"Lizenznummer fehlt !!!\")","v":""},{"$f":"IF(OR(M24>0,I24>0),\"\",\"Angabe Stellung fehlt !!!\")","v":""},{"$f":"IF(E24>\"\",0,1)","v":1},{"$f":"B24-ROW()/100","v":-0.24},{"$f":"IF(AND(N24<1,N24>0),N24,\"\")","v":""},{"$f":"IF(AND(N24<2,N24>1),N24,\"\")","v":""},{"$f":"IF(AND(N24<3,N24>2),N24,\"\")","v":""},{"$f":"IF(AND(N24<4,N24>3),N24,\"\")","v":""},{"$f":"IF(AND(N24<5,N24>4),N24,\"\")","v":""},{"$f":"IF(O24=\"\",\"\",RANK(O24,$O$6:$O$35))","v":""},{"$f":"IF(P24=\"\",\"\",RANK(P24,$P$6:$P$35))","v":""},{"$f":"IF(Q24=\"\",\"\",RANK(Q24,$Q$5:$Q$34))","v":""},{"$f":"IF(R24=\"\",\"\",RANK(R24,$R$5:$R$34))","v":""},{"$f":"IF(S24=\"\",\"\",RANK(S24,$S$5:$S$34))","v":""},{"$f":"IF(T24=\"\",\"\",T24/10+1)","v":""},{"$f":"IF(U24=\"\",\"\",U24/10+2)","v":""},{"$f":"IF(V24=\"\",\"\",V24/10+3)","v":""},{"$f":"IF(W24=\"\",\"\",W24/10+4)","v":""},{"$f":"IF(X24=\"\",\"\",X24/10+5)","v":""}]
[{"$f":"A24+1","v":20},null,{"$f":"SUM(Y25:AC25)","v":0},null,null,null,null,{"$f":"VLOOKUP(G25,Altersstufe!$E$6:$F$94,2,FALSE)","v":" "},null,null,{"$f":"IF(OR(M25>0,D25>0),\"\",\"Lizenznummer fehlt !!!\")","v":""},{"$f":"IF(OR(M25>0,I25>0),\"\",\"Angabe Stellung fehlt !!!\")","v":""},{"$f":"IF(E25>\"\",0,1)","v":1},{"$f":"B25-ROW()/100","v":-0.25},{"$f":"IF(AND(N25<1,N25>0),N25,\"\")","v":""},{"$f":"IF(AND(N25<2,N25>1),N25,\"\")","v":""},{"$f":"IF(AND(N25<3,N25>2),N25,\"\")","v":""},{"$f":"IF(AND(N25<4,N25>3),N25,\"\")","v":""},{"$f":"IF(AND(N25<5,N25>4),N25,\"\")","v":""},{"$f":"IF(O25=\"\",\"\",RANK(O25,$O$6:$O$35))","v":""},{"$f":"IF(P25=\"\",\"\",RANK(P25,$P$6:$P$35))","v":""},{"$f":"IF(Q25=\"\",\"\",RANK(Q25,$Q$5:$Q$34))","v":""},{"$f":"IF(R25=\"\",\"\",RANK(R25,$R$5:$R$34))","v":""},{"$f":"IF(S25=\"\",\"\",RANK(S25,$S$5:$S$34))","v":""},{"$f":"IF(T25=\"\",\"\",T25/10+1)","v":""},{"$f":"IF(U25=\"\",\"\",U25/10+2)","v":""},{"$f":"IF(V25=\"\",\"\",V25/10+3)","v":""},{"$f":"IF(W25=\"\",\"\",W25/10+4)","v":""},{"$f":"IF(X25=\"\",\"\",X25/10+5)","v":""}]
[{"$f":"A25+1","v":21},null,{"$f":"SUM(Y26:AC26)","v":0},null,null,null,null,{"$f":"VLOOKUP(G26,Altersstufe!$E$6:$F$94,2,FALSE)","v":" "},null,null,{"$f":"IF(OR(M26>0,D26>0),\"\",\"Lizenznummer fehlt !!!\")","v":""},{"$f":"IF(OR(M26>0,I26>0),\"\",\"Angabe Stellung fehlt !!!\")","v":""},{"$f":"IF(E26>\"\",0,1)","v":1},{"$f":"B26-ROW()/100","v":-0.26},{"$f":"IF(AND(N26<1,N26>0),N26,\"\")","v":""},{"$f":"IF(AND(N26<2,N26>1),N26,\"\")","v":""},{"$f":"IF(AND(N26<3,N26>2),N26,\"\")","v":""},{"$f":"IF(AND(N26<4,N26>3),N26,\"\")","v":""},{"$f":"IF(AND(N26<5,N26>4),N26,\"\")","v":""},{"$f":"IF(O26=\"\",\"\",RANK(O26,$O$6:$O$35))","v":""},{"$f":"IF(P26=\"\",\"\",RANK(P26,$P$6:$P$35))","v":""},{"$f":"IF(Q26=\"\",\"\",RANK(Q26,$Q$5:$Q$34))","v":""},{"$f":"IF(R26=\"\",\"\",RANK(R26,$R$5:$R$34))","v":""},{"$f":"IF(S26=\"\",\"\",RANK(S26,$S$5:$S$34))","v":""},{"$f":"IF(T26=\"\",\"\",T26/10+1)","v":""},{"$f":"IF(U26=\"\",\"\",U26/10+2)","v":""},{"$f":"IF(V26=\"\",\"\",V26/10+3)","v":""},{"$f":"IF(W26=\"\",\"\",W26/10+4)","v":""},{"$f":"IF(X26=\"\",\"\",X26/10+5)","v":""}]
[{"$f":"A26+1","v":22},null,{"$f":"SUM(Y27:AC27)","v":0},null,null,null,null,{"$f":"VLOOKUP(G27,Altersstufe!$E$6:$F$94,2,FALSE)","v":" "},null,null,{"$f":"IF(OR(M27>0,D27>0),\"\",\"Lizenznummer fehlt !!!\")","v":""},{"$f":"IF(OR(M27>0,I27>0),\"\",\"Angabe Stellung fehlt !!!\")","v":""},{"$f":"IF(E27>\"\",0,1)","v":1},{"$f":"B27-ROW()/100","v":-0.27},{"$f":"IF(AND(N27<1,N27>0),N27,\"\")","v":""},{"$f":"IF(AND(N27<2,N27>1),N27,\"\")","v":""},{"$f":"IF(AND(N27<3,N27>2),N27,\"\")","v":""},{"$f":"IF(AND(N27<4,N27>3),N27,\"\")","v":""},{"$f":"IF(AND(N27<5,N27>4),N27,\"\")","v":""},{"$f":"IF(O27=\"\",\"\",RANK(O27,$O$6:$O$35))","v":""},{"$f":"IF(P27=\"\",\"\",RANK(P27,$P$6:$P$35))","v":""},{"$f":"IF(Q27=\"\",\"\",RANK(Q27,$Q$5:$Q$34))","v":""},{"$f":"IF(R27=\"\",\"\",RANK(R27,$R$5:$R$34))","v":""},{"$f":"IF(S27=\"\",\"\",RANK(S27,$S$5:$S$34))","v":""},{"$f":"IF(T27=\"\",\"\",T27/10+1)","v":""},{"$f":"IF(U27=\"\",\"\",U27/10+2)","v":""},{"$f":"IF(V27=\"\",\"\",V27/10+3)","v":""},{"$f":"IF(W27=\"\",\"\",W27/10+4)","v":""},{"$f":"IF(X27=\"\",\"\",X27/10+5)","v":""}]
[{"$f":"A27+1","v":23},null,{"$f":"SUM(Y28:AC28)","v":0},null,null,null,null,{"$f":"VLOOKUP(G28,Altersstufe!$E$6:$F$94,2,FALSE)","v":" "},null,null,{"$f":"IF(OR(M28>0,D28>0),\"\",\"Lizenznummer fehlt !!!\")","v":""},{"$f":"IF(OR(M28>0,I28>0),\"\",\"Angabe Stellung fehlt !!!\")","v":""},{"$f":"IF(E28>\"\",0,1)","v":1},{"$f":"B28-ROW()/100","v":-0.28000000000000003},{"$f":"IF(AND(N28<1,N28>0),N28,\"\")","v":""},{"$f":"IF(AND(N28<2,N28>1),N28,\"\")","v":""},{"$f":"IF(AND(N28<3,N28>2),N28,\"\")","v":""},{"$f":"IF(AND(N28<4,N28>3),N28,\"\")","v":""},{"$f":"IF(AND(N28<5,N28>4),N28,\"\")","v":""},{"$f":"IF(O28=\"\",\"\",RANK(O28,$O$6:$O$35))","v":""},{"$f":"IF(P28=\"\",\"\",RANK(P28,$P$6:$P$35))","v":""},{"$f":"IF(Q28=\"\",\"\",RANK(Q28,$Q$5:$Q$34))","v":""},{"$f":"IF(R28=\"\",\"\",RANK(R28,$R$5:$R$34))","v":""},{"$f":"IF(S28=\"\",\"\",RANK(S28,$S$5:$S$34))","v":""},{"$f":"IF(T28=\"\",\"\",T28/10+1)","v":""},{"$f":"IF(U28=\"\",\"\",U28/10+2)","v":""},{"$f":"IF(V28=\"\",\"\",V28/10+3)","v":""},{"$f":"IF(W28=\"\",\"\",W28/10+4)","v":""},{"$f":"IF(X28=\"\",\"\",X28/10+5)","v":""}]
[{"$f":"A28+1","v":24},null,null,null,null,null,null,{"$f":"VLOOKUP(G29,Altersstufe!$E$6:$F$94,2,FALSE)","v":" "},null,null,{"$f":"IF(OR(M29>0,D29>0),\"\",\"Lizenznummer fehlt !!!\")","v":""},{"$f":"IF(OR(M29>0,I29>0),\"\",\"Angabe Stellung fehlt !!!\")","v":""},{"$f":"IF(E29>\"\",0,1)","v":1},{"$f":"B29-ROW()/100","v":-0.28999999999999998},{"$f":"IF(AND(N29<1,N29>0),N29,\"\")","v":""},{"$f":"IF(AND(N29<2,N29>1),N29,\"\")","v":""},{"$f":"IF(AND(N29<3,N29>2),N29,\"\")","v":""},{"$f":"IF(AND(N29<4,N29>3),N29,\"\")","v":""},{"$f":"IF(AND(N29<5,N29>4),N29,\"\")","v":""},{"$f":"IF(O29=\"\",\"\",RANK(O29,$O$6:$O$35))","v":""},{"$f":"IF(P29=\"\",\"\",RANK(P29,$P$6:$P$35))","v":""},{"$f":"IF(Q29=\"\",\"\",RANK(Q29,$Q$5:$Q$34))","v":""},{"$f":"IF(R29=\"\",\"\",RANK(R29,$R$5:$R$34))","v":""},{"$f":"IF(S29=\"\",\"\",RANK(S29,$S$5:$S$34))","v":""},{"$f":"IF(T29=\"\",\"\",T29/10+1)","v":""},{"$f":"IF(U29=\"\",\"\",U29/10+2)","v":""},{"$f":"IF(V29=\"\",\"\",V29/10+3)","v":""},{"$f":"IF(W29=\"\",\"\",W29/10+4)","v":""},{"$f":"IF(X29=\"\",\"\",X29/10+5)","v":""}]
[{"$f":"A29+1","v":25},null,{"$f":"SUM(Y30:AC30)","v":0},null,null,null,null,{"$f":"VLOOKUP(G30,Altersstufe!$E$6:$F$94,2,FALSE)","v":" "},null,null,{"$f":"IF(OR(M30>0,D30>0),\"\",\"Lizenznummer fehlt !!!\")","v":""},{"$f":"IF(OR(M30>0,I30>0),\"\",\"Angabe Stellung fehlt !!!\")","v":""},{"$f":"IF(E30>\"\",0,1)","v":1},{"$f":"B30-ROW()/100","v":-0.3},{"$f":"IF(AND(N30<1,N30>0),N30,\"\")","v":""},{"$f":"IF(AND(N30<2,N30>1),N30,\"\")","v":""},{"$f":"IF(AND(N30<3,N30>2),N30,\"\")","v":""},{"$f":"IF(AND(N30<4,N30>3),N30,\"\")","v":""},{"$f":"IF(AND(N30<5,N30>4),N30,\"\")","v":""},{"$f":"IF(O30=\"\",\"\",RANK(O30,$O$6:$O$35))","v":""},{"$f":"IF(P30=\"\",\"\",RANK(P30,$P$6:$P$35))","v":""},{"$f":"IF(Q30=\"\",\"\",RANK(Q30,$Q$5:$Q$34))","v":""},{"$f":"IF(R30=\"\",\"\",RANK(R30,$R$5:$R$34))","v":""},{"$f":"IF(S30=\"\",\"\",RANK(S30,$S$5:$S$34))","v":""},{"$f":"IF(T30=\"\",\"\",T30/10+1)","v":""},{"$f":"IF(U30=\"\",\"\",U30/10+2)","v":""},{"$f":"IF(V30=\"\",\"\",V30/10+3)","v":""},{"$f":"IF(W30=\"\",\"\",W30/10+4)","v":""},{"$f":"IF(X30=\"\",\"\",X30/10+5)","v":""}]
[{"$f":"A30+1","v":26},null,{"$f":"SUM(Y31:AC31)","v":0},null,null,null,null,{"$f":"VLOOKUP(G31,Altersstufe!$E$6:$F$94,2,FALSE)","v":" "},null,null,{"$f":"IF(OR(M31>0,D31>0),\"\",\"Lizenznummer fehlt !!!\")","v":""},{"$f":"IF(OR(M31>0,I31>0),\"\",\"Angabe Stellung fehlt !!!\")","v":""},{"$f":"IF(E31>\"\",0,1)","v":1},{"$f":"B31-ROW()/100","v":-0.31},{"$f":"IF(AND(N31<1,N31>0),N31,\"\")","v":""},{"$f":"IF(AND(N31<2,N31>1),N31,\"\")","v":""},{"$f":"IF(AND(N31<3,N31>2),N31,\"\")","v":""},{"$f":"IF(AND(N31<4,N31>3),N31,\"\")","v":""},{"$f":"IF(AND(N31<5,N31>4),N31,\"\")","v":""},{"$f":"IF(O31=\"\",\"\",RANK(O31,$O$6:$O$35))","v":""},{"$f":"IF(P31=\"\",\"\",RANK(P31,$P$6:$P$35))","v":""},{"$f":"IF(Q31=\"\",\"\",RANK(Q31,$Q$5:$Q$34))","v":""},{"$f":"IF(R31=\"\",\"\",RANK(R31,$R$5:$R$34))","v":""},{"$f":"IF(S31=\"\",\"\",RANK(S31,$S$5:$S$34))","v":""},{"$f":"IF(T31=\"\",\"\",T31/10+1)","v":""},{"$f":"IF(U31=\"\",\"\",U31/10+2)","v":""},{"$f":"IF(V31=\"\",\"\",V31/10+3)","v":""},{"$f":"IF(W31=\"\",\"\",W31/10+4)","v":""},{"$f":"IF(X31=\"\",\"\",X31/10+5)","v":""}]
[{"$f":"A31+1","v":27},null,{"$f":"SUM(Y32:AC32)","v":0},null,null,null,null,{"$f":"VLOOKUP(G32,Altersstufe!$E$6:$F$94,2,FALSE)","v":" "},null,null,{"$f":"IF(OR(M32>0,D32>0),\"\",\"Lizenznummer fehlt !!!\")","v":""},{"$f":"IF(OR(M32>0,I32>0),\"\",\"Angabe Stellung fehlt !!!\")","v":""},{"$f":"IF(E32>\"\",0,1)","v":1},{"$f":"B32-ROW()/100","v":-0.32},{"$f":"IF(AND(N32<1,N32>0),N32,\"\")","v":""},{"$f":"IF(AND(N32<2,N32>1),N32,\"\")","v":""},{"$f":"IF(AND(N32<3,N32>2),N32,\"\")","v":""},{"$f":"IF(AND(N32<4,N32>3),N32,\"\")","v":""},{"$f":"IF(AND(N32<5,N32>4),N32,\"\")","v":""},{"$f":"IF(O32=\"\",\"\",RANK(O32,$O$6:$O$35))","v":""},{"$f":"IF(P32=\"\",\"\",RANK(P32,$P$6:$P$35))","v":""},{"$f":"IF(Q32=\"\",\"\",RANK(Q32,$Q$5:$Q$34))","v":""},{"$f":"IF(R32=\"\",\"\",RANK(R32,$R$5:$R$34))","v":""},{"$f":"IF(S32=\"\",\"\",RANK(S32,$S$5:$S$34))","v":""},{"$f":"IF(T32=\"\",\"\",T32/10+1)","v":""},{"$f":"IF(U32=\"\",\"\",U32/10+2)","v":""},{"$f":"IF(V32=\"\",\"\",V32/10+3)","v":""},{"$f":"IF(W32=\"\",\"\",W32/10+4)","v":""},{"$f":"IF(X32=\"\",\"\",X32/10+5)","v":""}]
[{"$f":"A32+1","v":28},null,{"$f":"SUM(Y33:AC33)","v":0},null,null,null,null,{"$f":"VLOOKUP(G33,Altersstufe!$E$6:$F$94,2,FALSE)","v":" "},null,null,{"$f":"IF(OR(M33>0,D33>0),\"\",\"Lizenznummer fehlt !!!\")","v":""},{"$f":"IF(OR(M33>0,I33>0),\"\",\"Angabe Stellung fehlt !!!\")","v":""},{"$f":"IF(E33>\"\",0,1)","v":1},{"$f":"B33-ROW()/100","v":-0.33},{"$f":"IF(AND(N33<1,N33>0),N33,\"\")","v":""},{"$f":"IF(AND(N33<2,N33>1),N33,\"\")","v":""},{"$f":"IF(AND(N33<3,N33>2),N33,\"\")","v":""},{"$f":"IF(AND(N33<4,N33>3),N33,\"\")","v":""},{"$f":"IF(AND(N33<5,N33>4),N33,\"\")","v":""},{"$f":"IF(O33=\"\",\"\",RANK(O33,$O$6:$O$35))","v":""},{"$f":"IF(P33=\"\",\"\",RANK(P33,$P$6:$P$35))","v":""},{"$f":"IF(Q33=\"\",\"\",RANK(Q33,$Q$5:$Q$34))","v":""},{"$f":"IF(R33=\"\",\"\",RANK(R33,$R$5:$R$34))","v":""},{"$f":"IF(S33=\"\",\"\",RANK(S33,$S$5:$S$34))","v":""},{"$f":"IF(T33=\"\",\"\",T33/10+1)","v":""},{"$f":"IF(U33=\"\",\"\",U33/10+2)","v":""},{"$f":"IF(V33=\"\",\"\",V33/10+3)","v":""},{"$f":"IF(W33=\"\",\"\",W33/10+4)","v":""},{"$f":"IF(X33=\"\",\"\",X33/10+5)","v":""}]
[{"$f":"A33+1","v":29},null,{"$f":"SUM(Y34:AC34)","v":0},null,null,null,null,{"$f":"VLOOKUP(G34,Altersstufe!$E$6:$F$94,2,FALSE)","v":" "},null,null,{"$f":"IF(OR(M34>0,D34>0),\"\",\"Lizenznummer fehlt !!!\")","v":""},{"$f":"IF(OR(M34>0,I34>0),\"\",\"Angabe Stellung fehlt !!!\")","v":""},{"$f":"IF(E34>\"\",0,1)","v":1},{"$f":"B34-ROW()/100","v":-0.34},{"$f":"IF(AND(N34<1,N34>0),N34,\"\")","v":""},{"$f":"IF(AND(N34<2,N34>1),N34,\"\")","v":""},{"$f":"IF(AND(N34<3,N34>2),N34,\"\")","v":""},{"$f":"IF(AND(N34<4,N34>3),N34,\"\")","v":""},{"$f":"IF(AND(N34<5,N34>4),N34,\"\")","v":""},{"$f":"IF(O34=\"\",\"\",RANK(O34,$O$6:$O$35))","v":""},{"$f":"IF(P34=\"\",\"\",RANK(P34,$P$6:$P$35))","v":""},{"$f":"IF(Q34=\"\",\"\",RANK(Q34,$Q$5:$Q$34))","v":""},{"$f":"IF(R34=\"\",\"\",RANK(R34,$R$5:$R$34))","v":""},{"$f":"IF(S34=\"\",\"\",RANK(S34,$S$5:$S$34))","v":""},{"$f":"IF(T34=\"\",\"\",T34/10+1)","v":""},{"$f":"IF(U34=\"\",\"\",U34/10+2)","v":""},{"$f":"IF(V34=\"\",\"\",V34/10+3)","v":""},{"$f":"IF(W34=\"\",\"\",W34/10+4)","v":""},{"$f":"IF(X34=\"\",\"\",X34/10+5)","v":""}]
[{"$f":"A34+1","v":30},null,{"$f":"SUM(Y35:AC35)","v":0},null,null,null,null,{"$f":"VLOOKUP(G35,Altersstufe!$E$6:$F$94,2,FALSE)","v":" "},null,null,{"$f":"IF(OR(M35>0,D35>0),\"\",\"Lizenznummer fehlt !!!\")","v":""},{"$f":"IF(OR(M35>0,I35>0),\"\",\"Angabe Stellung fehlt !!!\")","v":""},{"$f":"IF(E35>\"\",0,1)","v":1},{"$f":"B35-ROW()/100","v":-0.35},{"$f":"IF(AND(N35<1,N35>0),N35,\"\")","v":""},{"$f":"IF(AND(N35<2,N35>1),N35,\"\")","v":""},{"$f":"IF(AND(N35<3,N35>2),N35,\"\")","v":""},{"$f":"IF(AND(N35<4,N35>3),N35,\"\")","v":""},{"$f":"IF(AND(N35<5,N35>4),N35,\"\")","v":""},{"$f":"IF(O35=\"\",\"\",RANK(O35,$O$6:$O$35))","v":""},{"$f":"IF(P35=\"\",\"\",RANK(P35,$P$6:$P$35))","v":""},{"$f":"IF(Q35=\"\",\"\",RANK(Q35,$Q$5:$Q$34))","v":""},{"$f":"IF(R35=\"\",\"\",RANK(R35,$R$5:$R$34))","v":""},{"$f":"IF(S35=\"\",\"\",RANK(S35,$S$5:$S$34))","v":""},{"$f":"IF(T35=\"\",\"\",T35/10+1)","v":""},{"$f":"IF(U35=\"\",\"\",U35/10+2)","v":""},{"$f":"IF(V35=\"\",\"\",V35/10+3)","v":""},{"$f":"IF(W35=\"\",\"\",W35/10+4)","v":""},{"$f":"IF(X35=\"\",\"\",X35/10+5)","v":""}]
[{"$f":"A35+1","v":31},null,{"$f":"SUM(Y36:AC36)","v":0},null,null,null,null,{"$f":"VLOOKUP(G36,Altersstufe!$E$6:$F$94,2,FALSE)","v":" "},null,null,{"$f":"IF(OR(M36>0,D36>0),\"\",\"Lizenznummer fehlt !!!\")","v":""},{"$f":"IF(OR(M36>0,I36>0),\"\",\"Angabe Stellung fehlt !!!\")","v":""},{"$f":"IF(E36>\"\",0,1)","v":1},{"$f":"B36-ROW()/100","v":-0.36},{"$f":"IF(AND(N36<1,N36>0),N36,\"\")","v":""},{"$f":"IF(AND(N36<2,N36>1),N36,\"\")","v":""},{"$f":"IF(AND(N36<3,N36>2),N36,\"\")","v":""},{"$f":"IF(AND(N36<4,N36>3),N36,\"\")","v":""},{"$f":"IF(AND(N36<5,N36>4),N36,\"\")","v":""},{"$f":"IF(O36=\"\",\"\",RANK(O36,$O$6:$O$35))","v":""},{"$f":"IF(P36=\"\",\"\",RANK(P36,$P$6:$P$35))","v":""},{"$f":"IF(Q36=\"\",\"\",RANK(Q36,$Q$5:$Q$34))","v":""},{"$f":"IF(R36=\"\",\"\",RANK(R36,$R$5:$R$34))","v":""},{"$f":"IF(S36=\"\",\"\",RANK(S36,$S$5:$S$34))","v":""},{"$f":"IF(T36=\"\",\"\",T36/10+1)","v":""},{"$f":"IF(U36=\"\",\"\",U36/10+2)","v":""},{"$f":"IF(V36=\"\",\"\",V36/10+3)","v":""},{"$f":"IF(W36=\"\",\"\",W36/10+4)","v":""},{"$f":"IF(X36=\"\",\"\",X36/10+5)","v":""}]
[{"$f":"A36+1","v":32},null,{"$f":"SUM(Y37:AC37)","v":0},null,null,null,null,{"$f":"VLOOKUP(G37,Altersstufe!$E$6:$F$94,2,FALSE)","v":" "},null,null,{"$f":"IF(OR(M37>0,D37>0),\"\",\"Lizenznummer fehlt !!!\")","v":""},{"$f":"IF(OR(M37>0,I37>0),\"\",\"Angabe Stellung fehlt !!!\")","v":""},{"$f":"IF(E37>\"\",0,1)","v":1},{"$f":"B37-ROW()/100","v":-0.37},{"$f":"IF(AND(N37<1,N37>0),N37,\"\")","v":""},{"$f":"IF(AND(N37<2,N37>1),N37,\"\")","v":""},{"$f":"IF(AND(N37<3,N37>2),N37,\"\")","v":""},{"$f":"IF(AND(N37<4,N37>3),N37,\"\")","v":""},{"$f":"IF(AND(N37<5,N37>4),N37,\"\")","v":""},{"$f":"IF(O37=\"\",\"\",RANK(O37,$O$6:$O$35))","v":""},{"$f":"IF(P37=\"\",\"\",RANK(P37,$P$6:$P$35))","v":""},{"$f":"IF(Q37=\"\",\"\",RANK(Q37,$Q$5:$Q$34))","v":""},{"$f":"IF(R37=\"\",\"\",RANK(R37,$R$5:$R$34))","v":""},{"$f":"IF(S37=\"\",\"\",RANK(S37,$S$5:$S$34))","v":""},{"$f":"IF(T37=\"\",\"\",T37/10+1)","v":""},{"$f":"IF(U37=\"\",\"\",U37/10+2)","v":""},{"$f":"IF(V37=\"\",\"\",V37/10+3)","v":""},{"$f":"IF(W37=\"\",\"\",W37/10+4)","v":""},{"$f":"IF(X37=\"\",\"\",X37/10+5)","v":""}]
[{"$f":"A37+1","v":33},null,{"$f":"SUM(Y38:AC38)","v":0},null,null,null,null,{"$f":"VLOOKUP(G38,Altersstufe!$E$6:$F$94,2,FALSE)","v":" "},null,null,{"$f":"IF(OR(M38>0,D38>0),\"\",\"Lizenznummer fehlt !!!\")","v":""},{"$f":"IF(OR(M38>0,I38>0),\"\",\"Angabe Stellung fehlt !!!\")","v":""},{"$f":"IF(E38>\"\",0,1)","v":1},{"$f":"B38-ROW()/100","v":-0.38},{"$f":"IF(AND(N38<1,N38>0),N38,\"\")","v":""},{"$f":"IF(AND(N38<2,N38>1),N38,\"\")","v":""},{"$f":"IF(AND(N38<3,N38>2),N38,\"\")","v":""},{"$f":"IF(AND(N38<4,N38>3),N38,\"\")","v":""},{"$f":"IF(AND(N38<5,N38>4),N38,\"\")","v":""},{"$f":"IF(O38=\"\",\"\",RANK(O38,$O$6:$O$35))","v":""},{"$f":"IF(P38=\"\",\"\",RANK(P38,$P$6:$P$35))","v":""},{"$f":"IF(Q38=\"\",\"\",RANK(Q38,$Q$5:$Q$34))","v":""},{"$f":"IF(R38=\"\",\"\",RANK(R38,$R$5:$R$34))","v":""},{"$f":"IF(S38=\"\",\"\",RANK(S38,$S$5:$S$34))","v":""},{"$f":"IF(T38=\"\",\"\",T38/10+1)","v":""},{"$f":"IF(U38=\"\",\"\",U38/10+2)","v":""},{"$f":"IF(V38=\"\",\"\",V38/10+3)","v":""},{"$f":"IF(W38=\"\",\"\",W38/10+4)","v":""},{"$f":"IF(X38=\"\",\"\",X38/10+5)","v":""}]
[{"$f":"A38+1","v":34},null,{"$f":"SUM(Y39:AC39)","v":0},null,null,null,null,{"$f":"VLOOKUP(G39,Altersstufe!$E$6:$F$94,2,FALSE)","v":" "},null,null,{"$f":"IF(OR(M39>0,D39>0),\"\",\"Lizenznummer fehlt !!!\")","v":""},{"$f":"IF(OR(M39>0,I39>0),\"\",\"Angabe Stellung fehlt !!!\")","v":""},{"$f":"IF(E39>\"\",0,1)","v":1},{"$f":"B39-ROW()/100","v":-0.39},{"$f":"IF(AND(N39<1,N39>0),N39,\"\")","v":""},{"$f":"IF(AND(N39<2,N39>1),N39,\"\")","v":""},{"$f":"IF(AND(N39<3,N39>2),N39,\"\")","v":""},{"$f":"IF(AND(N39<4,N39>3),N39,\"\")","v":""},{"$f":"IF(AND(N39<5,N39>4),N39,\"\")","v":""},{"$f":"IF(O39=\"\",\"\",RANK(O39,$O$6:$O$35))","v":""},{"$f":"IF(P39=\"\",\"\",RANK(P39,$P$6:$P$35))","v":""},{"$f":"IF(Q39=\"\",\"\",RANK(Q39,$Q$5:$Q$34))","v":""},{"$f":"IF(R39=\"\",\"\",RANK(R39,$R$5:$R$34))","v":""},{"$f":"IF(S39=\"\",\"\",RANK(S39,$S$5:$S$34))","v":""},{"$f":"IF(T39=\"\",\"\",T39/10+1)","v":""},{"$f":"IF(U39=\"\",\"\",U39/10+2)","v":""},{"$f":"IF(V39=\"\",\"\",V39/10+3)","v":""},{"$f":"IF(W39=\"\",\"\",W39/10+4)","v":""},{"$f":"IF(X39=\"\",\"\",X39/10+5)","v":""}]

{"sheet":"Gruppenübersicht","index":3,"n_rows":48,"n_cols":6,"rows_kept":48,"cut":false,"hidden":false,"merged":[[41,4,41,5],[3,3,3,5],[8,4,8,5],[17,4,17,5],[25,4,25,5],[33,4,33,5]]}
[null,null,"Verband"]
[null,null,"der Sportschützenvereine Zürich"]
[null,null,"und Umgebung"]
[null,null,null,{"$f":"IF(Vereinsanmeldung!C19>0,Vereinsanmeldung!C19,\"\")","v":""}]
[]
["Verbandsschiessen"]
["Anmeldung zum Gruppenwettkampf"]
[]
["Gruppe:",null,1,"Gruppenname: ",{"$f":"IF(Vereinsanmeldung!C36>0,Vereinsanmeldung!C36,\"\")","v":""}]
[]
[1,null,{"$f":"IF($E$9=\"\",\"\",Hilfsliste_Gruppen!B9)","v":""},{"$f":"IF($E$9=\"\",\"\",Hilfsliste_Gruppen!C9)","v":""},{"$f":"IF($E$9=\"\",\"\",Hilfsliste_Gruppen!D9)","v":""},{"$f":"IF($E$9=\"\",\"\",Hilfsliste_Gruppen!E9)","v":""}]
[2,null,{"$f":"IF($E$9=\"\",\"\",Hilfsliste_Gruppen!B10)","v":""},{"$f":"IF($E$9=\"\",\"\",Hilfsliste_Gruppen!C10)","v":""},{"$f":"IF($E$9=\"\",\"\",Hilfsliste_Gruppen!D10)","v":""},{"$f":"IF($E$9=\"\",\"\",Hilfsliste_Gruppen!E10)","v":""}]
[3,null,{"$f":"IF($E$9=\"\",\"\",Hilfsliste_Gruppen!B11)","v":""},{"$f":"IF($E$9=\"\",\"\",Hilfsliste_Gruppen!C11)","v":""},{"$f":"IF($E$9=\"\",\"\",Hilfsliste_Gruppen!D11)","v":""},{"$f":"IF($E$9=\"\",\"\",Hilfsliste_Gruppen!E11)","v":""}]
[4,null,{"$f":"IF($E$9=\"\",\"\",Hilfsliste_Gruppen!B12)","v":""},{"$f":"IF($E$9=\"\",\"\",Hilfsliste_Gruppen!C12)","v":""},{"$f":"IF($E$9=\"\",\"\",Hilfsliste_Gruppen!D12)","v":""},{"$f":"IF($E$9=\"\",\"\",Hilfsliste_Gruppen!E12)","v":""}]
[5,null,{"$f":"IF($E$9=\"\",\"\",Hilfsliste_Gruppen!B13)","v":""},{"$f":"IF($E$9=\"\",\"\",Hilfsliste_Gruppen!C13)","v":""},{"$f":"IF($E$9=\"\",\"\",Hilfsliste_Gruppen!D13)","v":""},{"$f":"IF($E$9=\"\",\"\",Hilfsliste_Gruppen!E13)","v":""}]
[]
[]
["Gruppe:",null,2,"Gruppenname: ",{"$f":"IF(Vereinsanmeldung!C38>0,Vereinsanmeldung!C38,\"\")","v":""}]
[]
[1,null,{"$f":"IF($E$18=\"\",\"\",Hilfsliste_Gruppen!G9)","v":""},{"$f":"IF($E$18=\"\",\"\",Hilfsliste_Gruppen!H9)","v":""},{"$f":"IF($E$18=\"\",\"\",Hilfsliste_Gruppen!I9)","v":""},{"$f":"IF($E$18=\"\",\"\",Hilfsliste_Gruppen!J9)","v":""}]
[2,null,{"$f":"IF($E$18=\"\",\"\",Hilfsliste_Gruppen!G10)","v":""},{"$f":"IF($E$18=\"\",\"\",Hilfsliste_Gruppen!H10)","v":""},{"$f":"IF($E$18=\"\",\"\",Hilfsliste_Gruppen!I10)","v":""},{"$f":"IF($E$18=\"\",\"\",Hilfsliste_Gruppen!J10)","v":""}]
[3,null,{"$f":"IF($E$18=\"\",\"\",Hilfsliste_Gruppen!G11)","v":""},{"$f":"IF($E$18=\"\",\"\",Hilfsliste_Gruppen!H11)","v":""},{"$f":"IF($E$18=\"\",\"\",Hilfsliste_Gruppen!I11)","v":""},{"$f":"IF($E$18=\"\",\"\",Hilfsliste_Gruppen!J11)","v":""}]
[4,null,{"$f":"IF($E$18=\"\",\"\",Hilfsliste_Gruppen!G12)","v":""},{"$f":"IF($E$18=\"\",\"\",Hilfsliste_Gruppen!H12)","v":""},{"$f":"IF($E$18=\"\",\"\",Hilfsliste_Gruppen!I12)","v":""},{"$f":"IF($E$18=\"\",\"\",Hilfsliste_Gruppen!J12)","v":""}]
[5,null,{"$f":"IF($E$18=\"\",\"\",Hilfsliste_Gruppen!G13)","v":""},{"$f":"IF($E$18=\"\",\"\",Hilfsliste_Gruppen!H13)","v":""},{"$f":"IF($E$18=\"\",\"\",Hilfsliste_Gruppen!I13)","v":""},{"$f":"IF($E$18=\"\",\"\",Hilfsliste_Gruppen!J13)","v":""}]
[]
["Gruppe:",null,3,"Gruppenname: ",{"$f":"IF(Vereinsanmeldung!C40>0,Vereinsanmeldung!C40,\"\")","v":""}]
[]
[1,null,{"$f":"IF($E$26=\"\",\"\",Hilfsliste_Gruppen!L9)","v":""},{"$f":"IF($E$26=\"\",\"\",Hilfsliste_Gruppen!M9)","v":""},{"$f":"IF($E$26=\"\",\"\",Hilfsliste_Gruppen!N9)","v":""},{"$f":"IF($E$26=\"\",\"\",Hilfsliste_Gruppen!O9)","v":""}]
[2,null,{"$f":"IF($E$26=\"\",\"\",Hilfsliste_Gruppen!L10)","v":""},{"$f":"IF($E$26=\"\",\"\",Hilfsliste_Gruppen!M10)","v":""},{"$f":"IF($E$26=\"\",\"\",Hilfsliste_Gruppen!N10)","v":""},{"$f":"IF($E$26=\"\",\"\",Hilfsliste_Gruppen!O10)","v":""}]
[3,null,{"$f":"IF($E$26=\"\",\"\",Hilfsliste_Gruppen!L11)","v":""},{"$f":"IF($E$26=\"\",\"\",Hilfsliste_Gruppen!M11)","v":""},{"$f":"IF($E$26=\"\",\"\",Hilfsliste_Gruppen!N11)","v":""},{"$f":"IF($E$26=\"\",\"\",Hilfsliste_Gruppen!O11)","v":""}]
[4,null,{"$f":"IF($E$26=\"\",\"\",Hilfsliste_Gruppen!L12)","v":""},{"$f":"IF($E$26=\"\",\"\",Hilfsliste_Gruppen!M12)","v":""},{"$f":"IF($E$26=\"\",\"\",Hilfsliste_Gruppen!N12)","v":""},{"$f":"IF($E$26=\"\",\"\",Hilfsliste_Gruppen!O12)","v":""}]
[5,null,{"$f":"IF($E$26=\"\",\"\",Hilfsliste_Gruppen!L13)","v":""},{"$f":"IF($E$26=\"\",\"\",Hilfsliste_Gruppen!M13)","v":""},{"$f":"IF($E$26=\"\",\"\",Hilfsliste_Gruppen!N13)","v":""},{"$f":"IF($E$26=\"\",\"\",Hilfsliste_Gruppen!O13)","v":""}]
[]
["Gruppe:",null,4,"Gruppenname: ",{"$f":"IF(Vereinsanmeldung!C42>0,Vereinsanmeldung!C42,\"\")","v":""}]
[]
[1,null,{"$f":"IF($E$34=\"\",\"\",Hilfsliste_Gruppen!Q9)","v":""},{"$f":"IF($E$34=\"\",\"\",Hilfsliste_Gruppen!R9)","v":""},{"$f":"IF($E$34=\"\",\"\",Hilfsliste_Gruppen!S9)","v":""},{"$f":"IF($E$34=\"\",\"\",Hilfsliste_Gruppen!T9)","v":""}]
[2,null,{"$f":"IF($E$34=\"\",\"\",Hilfsliste_Gruppen!Q10)","v":""},{"$f":"IF($E$34=\"\",\"\",Hilfsliste_Gruppen!R10)","v":""},{"$f":"IF($E$34=\"\",\"\",Hilfsliste_Gruppen!S10)","v":""},{"$f":"IF($E$34=\"\",\"\",Hilfsliste_Gruppen!T10)","v":""}]
[3,null,{"$f":"IF($E$34=\"\",\"\",Hilfsliste_Gruppen!Q11)","v":""},{"$f":"IF($E$34=\"\",\"\",Hilfsliste_Gruppen!R11)","v":""},{"$f":"IF($E$34=\"\",\"\",Hilfsliste_Gruppen!S11)","v":""},{"$f":"IF($E$34=\"\",\"\",Hilfsliste_Gruppen!T11)","v":""}]
[4,null,{"$f":"IF($E$34=\"\",\"\",Hilfsliste_Gruppen!Q12)","v":""},{"$f":"IF($E$34=\"\",\"\",Hilfsliste_Gruppen!R12)","v":""},{"$f":"IF($E$34=\"\",\"\",Hilfsliste_Gruppen!S12)","v":""},{"$f":"IF($E$34=\"\",\"\",Hilfsliste_Gruppen!T12)","v":""}]
[5,null,{"$f":"IF($E$34=\"\",\"\",Hilfsliste_Gruppen!Q13)","v":""},{"$f":"IF($E$34=\"\",\"\",Hilfsliste_Gruppen!R13)","v":""},{"$f":"IF($E$34=\"\",\"\",Hilfsliste_Gruppen!S13)","v":""},{"$f":"IF($E$34=\"\",\"\",Hilfsliste_Gruppen!T13)","v":""}]
[]
["Gruppe:",null,5,"Gruppenname: ",{"$f":"IF(Vereinsanmeldung!C44>0,Vereinsanmeldung!C44,\"\")","v":""}]
[]
[1,null,{"$f":"IF($E$42=\"\",\"\",Hilfsliste_Gruppen!V9)","v":""},{"$f":"IF($E$42=\"\",\"\",Hilfsliste_Gruppen!W9)","v":""},{"$f":"IF($E$42=\"\",\"\",Hilfsliste_Gruppen!X9)","v":""},{"$f":"IF($E$42=\"\",\"\",Hilfsliste_Gruppen!Y9)","v":""}]
[2,null,{"$f":"IF($E$42=\"\",\"\",Hilfsliste_Gruppen!V10)","v":""},{"$f":"IF($E$42=\"\",\"\",Hilfsliste_Gruppen!W10)","v":""},{"$f":"IF($E$42=\"\",\"\",Hilfsliste_Gruppen!X10)","v":""},{"$f":"IF($E$42=\"\",\"\",Hilfsliste_Gruppen!Y10)","v":""}]
[3,null,{"$f":"IF($E$42=\"\",\"\",Hilfsliste_Gruppen!V11)","v":""},{"$f":"IF($E$42=\"\",\"\",Hilfsliste_Gruppen!W11)","v":""},{"$f":"IF($E$42=\"\",\"\",Hilfsliste_Gruppen!X11)","v":""},{"$f":"IF($E$42=\"\",\"\",Hilfsliste_Gruppen!Y11)","v":""}]
[4,null,{"$f":"IF($E$42=\"\",\"\",Hilfsliste_Gruppen!V12)","v":""},{"$f":"IF($E$42=\"\",\"\",Hilfsliste_Gruppen!W12)","v":""},{"$f":"IF($E$42=\"\",\"\",Hilfsliste_Gruppen!X12)","v":""},{"$f":"IF($E$42=\"\",\"\",Hilfsliste_Gruppen!Y12)","v":""}]
[5,null,{"$f":"IF($E$42=\"\",\"\",Hilfsliste_Gruppen!V13)","v":""},{"$f":"IF($E$42=\"\",\"\",Hilfsliste_Gruppen!W13)","v":""},{"$f":"IF($E$42=\"\",\"\",Hilfsliste_Gruppen!X13)","v":""},{"$f":"IF($E$42=\"\",\"\",Hilfsliste_Gruppen!Y13)","v":""}]

{"sheet":"Auswahlfelder","index":4,"n_rows":7,"n_cols":3,"rows_kept":7,"cut":false,"hidden":true,"merged":[]}
["Anzahl Gruppen",null,"Stellung"]
[" ",null," "]
[1,null,"frei"]
[2,null,"aufg."]
[3]
[4]
[5]

{"sheet":"Altersstufe","index":5,"n_rows":94,"n_cols":6,"rows_kept":94,"cut":false,"hidden":true,"merged":[[19,1,43,2],[44,1,57,2],[58,1,67,2],[68,1,93,2],[4,1,4,2],[6,1,18,1],[6,2,7,2],[8,2,10,2],[11,2,12,2],[13,2,14,2],[15,2,16,2],[17,2,18,2]]}
["Berechnung Altersstufe aus dem Altersjahr oder dem Jahrgang "]
[]
["Wettkampf-\nJahr",{"$f":"Vereinsanmeldung!G14","v":2024}]
[]
[null,"Altersstufen",null,"Altersjahr","Jahrgang","Kategorie"]
[null,null,null,0,0," "]
[null,"Junioren U10 - U21","U10",8,{"$f":"+$B$3-D7","v":2016},"U17"]
[null,null,null,{"$f":"+D7+1","v":9},2015,"U17"]
[null,null,"U13",10,2014,"U17"]
[null,null,null,11,2013,"U17"]
[null,null,null,12,2012,"U17"]
[null,null,"U15",13,2011,"U17"]
[null,null,null,14,2010,"U17"]
[null,null,"U17",15,2009,"U17"]
[null,null,null,16,2008,"U17"]
[null,null,"U19",17,2007,"U21"]
[null,null,null,18,2006,"U21"]
[null,null,"U21",19,2005,"U21"]
[null,null,null,20,2004,"U21"]
[null,"Elite (offene Altersstufe ohne Altersbegrenzung)",null,21,2003,"E"]
[null,null,null,22,2002,"E"]
[null,null,null,23,2001,"E"]
[null,null,null,24,2000,"E"]
[null,null,null,25,1999,"E"]
[null,null,null,26,1998,"E"]
[null,null,null,{"$f":"+D25+1","v":27},1997,"E"]
[null,null,null,28,1996,"E"]
[null,null,null,29,1995,"E"]
[null,null,null,30,1994,"E"]
[null,null,null,31,1993,"E"]
[null,null,null,32,1992,"E"]
[null,null,null,33,1991,"E"]
[null,null,null,34,1990,"E"]
[null,null,null,35,1989,"E"]
[null,null,null,36,1988,"E"]
[null,null,null,37,1987,"E"]
[null,null,null,38,1986,"E"]
[null,null,null,39,1985,"E"]
[null,null,null,40,1984,"E"]
[null,null,null,41,1983,"E"]
[null,null,null,42,1982,"E"]
[null,null,null,43,1981,"E"]
[null,null,null,44,1980,"E"]
[null,null,null,{"$f":"+D43+1","v":45},1979,"E"]
[null,"Senioren",null,46,1978,"S"]
[null,null,null,47,1977,"S"]
[null,null,null,48,1976,"S"]
[null,null,null,49,1975,"S"]
[null,null,null,50,1974,"S"]
[null,null,null,51,1973,"S"]
[null,null,null,52,1972,"S"]
[null,null,null,53,1971,"S"]
[null,null,null,54,1970,"S"]
[null,null,null,55,1969,"S"]
[null,null,null,56,1968,"S"]
[null,null,null,57,1967,"S"]
[null,null,null,58,1966,"S"]
[null,null,null,59,1965,"S"]
[null,"Veteranen",null,60,1964,"V"]
[null,null,null,61,1963,"V"]
[null,null,null,62,1962,"V"]
[null,null,null,{"$f":"+D61+1","v":63},1961,"V"]
[null,null,null,64,1960,"V"]
[null,null,null,65,1959,"V"]
[null,null,null,66,1958,"V"]
[null,null,null,67,1957,"V"]
[null,null,null,68,1956,"V"]
[null,null,null,69,1955,"V"]
[null,"Seniorveteranen",null,70,1954,"SV"]
[null,null,null,71,1953,"SV"]
[null,null,null,72,{"$f":"+$B$3-D71","v":1952},"SV"]
[null,null,null,73,1951,"SV"]
[null,null,null,74,1950,"SV"]
[null,null,null,75,1949,"SV"]
[null,null,null,76,1948,"SV"]
[null,null,null,77,1947,"SV"]
[null,null,null,78,1946,"SV"]
[null,null,null,79,1945,"SV"]
[null,null,null,80,1944,"SV"]
[null,null,null,81,1943,"SV"]
[null,null,null,82,1942,"SV"]
[null,null,null,83,1941,"SV"]
[null,null,null,84,1940,"SV"]
[null,null,null,85,1939,"SV"]
[null,null,null,86,1938,"SV"]
[null,null,null,87,1937,"SV"]
[null,null,null,88,1936,"SV"]
[null,null,null,89,1935,"SV"]
[null,null,null,90,1934,"SV"]
[null,null,null,91,1933,"SV"]
[null,null,null,92,1932,"SV"]
[null,null,null,93,1931,"SV"]
[null,null,null,94,1930,"SV"]
[null,null,null,95,1929,"SV"]

{"sheet":"Hilfsliste_Gruppen","index":6,"n_rows":13,"n_cols":25,"rows_kept":13,"cut":false,"hidden":true,"merged":[]}
[1.1000000000000001,{"$f":"VLOOKUP(A1,Personenerfassung!$C$6:$I$35,3,FALSE)","v":{"$error":"#N/A"}},{"$f":"VLOOKUP(A1,Personenerfassung!$C$6:$I$35,4,FALSE)","v":{"$error":"#N/A"}},{"$f":"VLOOKUP(A1,Personenerfassung!$C$6:$I$35,5,FALSE)","v":{"$error":"#N/A"}},{"$f":"VLOOKUP(A1,Personenerfassung!$C$6:$I$35,7,FALSE)","v":{"$error":"#N/A"}},2.1,{"$f":"VLOOKUP(F1,Personenerfassung!$C$6:$I$35,3,FALSE)","v":{"$error":"#N/A"}},{"$f":"VLOOKUP(F1,Personenerfassung!$C$6:$I$35,4,FALSE)","v":{"$error":"#N/A"}},{"$f":"VLOOKUP(F1,Personenerfassung!$C$6:$I$35,5,FALSE)","v":{"$error":"#N/A"}},{"$f":"VLOOKUP(F1,Personenerfassung!$C$6:$I$35,7,FALSE)","v":{"$error":"#N/A"}},3.1,{"$f":"VLOOKUP(K1,Personenerfassung!$C$6:$I$35,3,FALSE)","v":{"$error":"#N/A"}},{"$f":"VLOOKUP(K1,Personenerfassung!$C$6:$I$35,4,FALSE)","v":{"$error":"#N/A"}},{"$f":"VLOOKUP(K1,Personenerfassung!$C$6:$I$35,5,FALSE)","v":{"$error":"#N/A"}},{"$f":"VLOOKUP(K1,Personenerfassung!$C$6:$I$35,7,FALSE)","v":{"$error":"#N/A"}},4.0999999999999996,{"$f":"VLOOKUP(P1,Personenerfassung!$C$6:$I$35,3,FALSE)","v":{"$error":"#N/A"}},{"$f":"VLOOKUP(P1,Personenerfassung!$C$6:$I$35,4,FALSE)","v":{"$error":"#N/A"}},{"$f":"VLOOKUP(P1,Personenerfassung!$C$6:$I$35,5,FALSE)","v":{"$error":"#N/A"}},{"$f":"VLOOKUP(P1,Personenerfassung!$C$6:$I$35,7,FALSE)","v":{"$error":"#N/A"}},5.0999999999999996,{"$f":"VLOOKUP(U1,Personenerfassung!$C$6:$I$35,3,FALSE)","v":{"$error":"#N/A"}},{"$f":"VLOOKUP(U1,Personenerfassung!$C$6:$I$35,4,FALSE)","v":{"$error":"#N/A"}},{"$f":"VLOOKUP(U1,Personenerfassung!$C$6:$I$35,5,FALSE)","v":{"$error":"#N/A"}},{"$f":"VLOOKUP(U1,Personenerfassung!$C$6:$I$35,7,FALSE)","v":{"$error":"#N/A"}}]
[1.2,{"$f":"VLOOKUP(A2,Personenerfassung!$C$6:$I$35,3,FALSE)","v":{"$error":"#N/A"}},{"$f":"VLOOKUP(A2,Personenerfassung!$C$6:$I$35,4,FALSE)","v":{"$error":"#N/A"}},{"$f":"VLOOKUP(A2,Personenerfassung!$C$6:$I$35,5,FALSE)","v":{"$error":"#N/A"}},{"$f":"VLOOKUP(A2,Personenerfassung!$C$6:$I$35,7,FALSE)","v":{"$error":"#N/A"}},2.2000000000000002,{"$f":"VLOOKUP(F2,Personenerfassung!$C$6:$I$35,3,FALSE)","v":{"$error":"#N/A"}},{"$f":"VLOOKUP(F2,Personenerfassung!$C$6:$I$35,4,FALSE)","v":{"$error":"#N/A"}},{"$f":"VLOOKUP(F2,Personenerfassung!$C$6:$I$35,5,FALSE)","v":{"$error":"#N/A"}},{"$f":"VLOOKUP(F2,Personenerfassung!$C$6:$I$35,7,FALSE)","v":{"$error":"#N/A"}},3.2,{"$f":"VLOOKUP(K2,Personenerfassung!$C$6:$I$35,3,FALSE)","v":{"$error":"#N/A"}},{"$f":"VLOOKUP(K2,Personenerfassung!$C$6:$I$35,4,FALSE)","v":{"$error":"#N/A"}},{"$f":"VLOOKUP(K2,Personenerfassung!$C$6:$I$35,5,FALSE)","v":{"$error":"#N/A"}},{"$f":"VLOOKUP(K2,Personenerfassung!$C$6:$I$35,7,FALSE)","v":{"$error":"#N/A"}},4.2,{"$f":"VLOOKUP(P2,Personenerfassung!$C$6:$I$35,3,FALSE)","v":{"$error":"#N/A"}},{"$f":"VLOOKUP(P2,Personenerfassung!$C$6:$I$35,4,FALSE)","v":{"$error":"#N/A"}},{"$f":"VLOOKUP(P2,Personenerfassung!$C$6:$I$35,5,FALSE)","v":{"$error":"#N/A"}},{"$f":"VLOOKUP(P2,Personenerfassung!$C$6:$I$35,7,FALSE)","v":{"$error":"#N/A"}},5.2,{"$f":"VLOOKUP(U2,Personenerfassung!$C$6:$I$35,3,FALSE)","v":{"$error":"#N/A"}},{"$f":"VLOOKUP(U2,Personenerfassung!$C$6:$I$35,4,FALSE)","v":{"$error":"#N/A"}},{"$f":"VLOOKUP(U2,Personenerfassung!$C$6:$I$35,5,FALSE)","v":{"$error":"#N/A"}},{"$f":"VLOOKUP(U2,Personenerfassung!$C$6:$I$35,7,FALSE)","v":{"$error":"#N/A"}}]
[1.3,{"$f":"VLOOKUP(A3,Personenerfassung!$C$6:$I$35,3,FALSE)","v":{"$error":"#N/A"}},{"$f":"VLOOKUP(A3,Personenerfassung!$C$6:$I$35,4,FALSE)","v":{"$error":"#N/A"}},{"$f":"VLOOKUP(A3,Personenerfassung!$C$6:$I$35,5,FALSE)","v":{"$error":"#N/A"}},{"$f":"VLOOKUP(A3,Personenerfassung!$C$6:$I$35,7,FALSE)","v":{"$error":"#N/A"}},2.2999999999999998,{"$f":"VLOOKUP(F3,Personenerfassung!$C$6:$I$35,3,FALSE)","v":{"$error":"#N/A"}},{"$f":"VLOOKUP(F3,Personenerfassung!$C$6:$I$35,4,FALSE)","v":{"$error":"#N/A"}},{"$f":"VLOOKUP(F3,Personenerfassung!$C$6:$I$35,5,FALSE)","v":{"$error":"#N/A"}},{"$f":"VLOOKUP(F3,Personenerfassung!$C$6:$I$35,7,FALSE)","v":{"$error":"#N/A"}},3.3,{"$f":"VLOOKUP(K3,Personenerfassung!$C$6:$I$35,3,FALSE)","v":{"$error":"#N/A"}},{"$f":"VLOOKUP(K3,Personenerfassung!$C$6:$I$35,4,FALSE)","v":{"$error":"#N/A"}},{"$f":"VLOOKUP(K3,Personenerfassung!$C$6:$I$35,5,FALSE)","v":{"$error":"#N/A"}},{"$f":"VLOOKUP(K3,Personenerfassung!$C$6:$I$35,7,FALSE)","v":{"$error":"#N/A"}},4.3,{"$f":"VLOOKUP(P3,Personenerfassung!$C$6:$I$35,3,FALSE)","v":{"$error":"#N/A"}},{"$f":"VLOOKUP(P3,Personenerfassung!$C$6:$I$35,4,FALSE)","v":{"$error":"#N/A"}},{"$f":"VLOOKUP(P3,Personenerfassung!$C$6:$I$35,5,FALSE)","v":{"$error":"#N/A"}},{"$f":"VLOOKUP(P3,Personenerfassung!$C$6:$I$35,7,FALSE)","v":{"$error":"#N/A"}},5.3,{"$f":"VLOOKUP(U3,Personenerfassung!$C$6:$I$35,3,FALSE)","v":{"$error":"#N/A"}},{"$f":"VLOOKUP(U3,Personenerfassung!$C$6:$I$35,4,FALSE)","v":{"$error":"#N/A"}},{"$f":"VLOOKUP(U3,Personenerfassung!$C$6:$I$35,5,FALSE)","v":{"$error":"#N/A"}},{"$f":"VLOOKUP(U3,Personenerfassung!$C$6:$I$35,7,FALSE)","v":{"$error":"#N/A"}}]
[1.4,{"$f":"VLOOKUP(A4,Personenerfassung!$C$6:$I$35,3,FALSE)","v":{"$error":"#N/A"}},{"$f":"VLOOKUP(A4,Personenerfassung!$C$6:$I$35,4,FALSE)","v":{"$error":"#N/A"}},{"$f":"VLOOKUP(A4,Personenerfassung!$C$6:$I$35,5,FALSE)","v":{"$error":"#N/A"}},{"$f":"VLOOKUP(A4,Personenerfassung!$C$6:$I$35,7,FALSE)","v":{"$error":"#N/A"}},2.4,{"$f":"VLOOKUP(F4,Personenerfassung!$C$6:$I$35,3,FALSE)","v":{"$error":"#N/A"}},{"$f":"VLOOKUP(F4,Personenerfassung!$C$6:$I$35,4,FALSE)","v":{"$error":"#N/A"}},{"$f":"VLOOKUP(F4,Personenerfassung!$C$6:$I$35,5,FALSE)","v":{"$error":"#N/A"}},{"$f":"VLOOKUP(F4,Personenerfassung!$C$6:$I$35,7,FALSE)","v":{"$error":"#N/A"}},3.4,{"$f":"VLOOKUP(K4,Personenerfassung!$C$6:$I$35,3,FALSE)","v":{"$error":"#N/A"}},{"$f":"VLOOKUP(K4,Personenerfassung!$C$6:$I$35,4,FALSE)","v":{"$error":"#N/A"}},{"$f":"VLOOKUP(K4,Personenerfassung!$C$6:$I$35,5,FALSE)","v":{"$error":"#N/A"}},{"$f":"VLOOKUP(K4,Personenerfassung!$C$6:$I$35,7,FALSE)","v":{"$error":"#N/A"}},4.4000000000000004,{"$f":"VLOOKUP(P4,Personenerfassung!$C$6:$I$35,3,FALSE)","v":{"$error":"#N/A"}},{"$f":"VLOOKUP(P4,Personenerfassung!$C$6:$I$35,4,FALSE)","v":{"$error":"#N/A"}},{"$f":"VLOOKUP(P4,Personenerfassung!$C$6:$I$35,5,FALSE)","v":{"$error":"#N/A"}},{"$f":"VLOOKUP(P4,Personenerfassung!$C$6:$I$35,7,FALSE)","v":{"$error":"#N/A"}},5.4,{"$f":"VLOOKUP(U4,Personenerfassung!$C$6:$I$35,3,FALSE)","v":{"$error":"#N/A"}},{"$f":"VLOOKUP(U4,Personenerfassung!$C$6:$I$35,4,FALSE)","v":{"$error":"#N/A"}},{"$f":"VLOOKUP(U4,Personenerfassung!$C$6:$I$35,5,FALSE)","v":{"$error":"#N/A"}},{"$f":"VLOOKUP(U4,Personenerfassung!$C$6:$I$35,7,FALSE)","v":{"$error":"#N/A"}}]
[1.5,{"$f":"VLOOKUP(A5,Personenerfassung!$C$6:$I$35,3,FALSE)","v":{"$error":"#N/A"}},{"$f":"VLOOKUP(A5,Personenerfassung!$C$6:$I$35,4,FALSE)","v":{"$error":"#N/A"}},{"$f":"VLOOKUP(A5,Personenerfassung!$C$6:$I$35,5,FALSE)","v":{"$error":"#N/A"}},{"$f":"VLOOKUP(A5,Personenerfassung!$C$6:$I$35,7,FALSE)","v":{"$error":"#N/A"}},2.5,{"$f":"VLOOKUP(F5,Personenerfassung!$C$6:$I$35,3,FALSE)","v":{"$error":"#N/A"}},{"$f":"VLOOKUP(F5,Personenerfassung!$C$6:$I$35,4,FALSE)","v":{"$error":"#N/A"}},{"$f":"VLOOKUP(F5,Personenerfassung!$C$6:$I$35,5,FALSE)","v":{"$error":"#N/A"}},{"$f":"VLOOKUP(F5,Personenerfassung!$C$6:$I$35,7,FALSE)","v":{"$error":"#N/A"}},3.5,{"$f":"VLOOKUP(K5,Personenerfassung!$C$6:$I$35,3,FALSE)","v":{"$error":"#N/A"}},{"$f":"VLOOKUP(K5,Personenerfassung!$C$6:$I$35,4,FALSE)","v":{"$error":"#N/A"}},{"$f":"VLOOKUP(K5,Personenerfassung!$C$6:$I$35,5,FALSE)","v":{"$error":"#N/A"}},{"$f":"VLOOKUP(K5,Personenerfassung!$C$6:$I$35,7,FALSE)","v":{"$error":"#N/A"}},4.5,{"$f":"VLOOKUP(P5,Personenerfassung!$C$6:$I$35,3,FALSE)","v":{"$error":"#N/A"}},{"$f":"VLOOKUP(P5,Personenerfassung!$C$6:$I$35,4,FALSE)","v":{"$error":"#N/A"}},{"$f":"VLOOKUP(P5,Personenerfassung!$C$6:$I$35,5,FALSE)","v":{"$error":"#N/A"}},{"$f":"VLOOKUP(P5,Personenerfassung!$C$6:$I$35,7,FALSE)","v":{"$error":"#N/A"}},5.5,{"$f":"VLOOKUP(U5,Personenerfassung!$C$6:$I$35,3,FALSE)","v":{"$error":"#N/A"}},{"$f":"VLOOKUP(U5,Personenerfassung!$C$6:$I$35,4,FALSE)","v":{"$error":"#N/A"}},{"$f":"VLOOKUP(U5,Personenerfassung!$C$6:$I$35,5,FALSE)","v":{"$error":"#N/A"}},{"$f":"VLOOKUP(U5,Personenerfassung!$C$6:$I$35,7,FALSE)","v":{"$error":"#N/A"}}]
[]
[5,6,7,8,null,12,13,14,15,null,19,20,21,22,null,26,27,28,29,null,33,34,35,36]
[]
[{"$f":"A1","v":1.1000000000000001},{"$f":"IF(ISERROR(B1),\"\",B1)","v":""},{"$f":"IF(ISERROR(C1),\"\",C1)","v":""},"","",{"$f":"F1","v":2.1},{"$f":"IF(ISERROR(G1),\"\",G1)","v":""},"","","",{"$f":"K1","v":3.1},{"$f":"IF(ISERROR(L1),\"\",L1)","v":""},"","","",{"$f":"P1","v":4.0999999999999996},{"$f":"IF(ISERROR(Q1),\"\",Q1)","v":""},"","","",{"$f":"U1","v":5.0999999999999996},{"$f":"IF(ISERROR(V1),\"\",V1)","v":""},"","",""]
[{"$f":"A2","v":1.2},{"$f":"IF(ISERROR(B2),\"\",B2)","v":""},"","","",{"$f":"F2","v":2.2000000000000002},{"$f":"IF(ISERROR(G2),\"\",G2)","v":""},"","","",{"$f":"K2","v":3.2},{"$f":"IF(ISERROR(L2),\"\",L2)","v":""},"","","",{"$f":"P2","v":4.2},{"$f":"IF(ISERROR(Q2),\"\",Q2)","v":""},"","","",{"$f":"U2","v":5.2},{"$f":"IF(ISERROR(V2),\"\",V2)","v":""},"","",""]
[1.3,{"$f":"IF(ISERROR(B3),\"\",B3)","v":""},"","","",2.2999999999999998,{"$f":"IF(ISERROR(G3),\"\",G3)","v":""},"","","",3.3,{"$f":"IF(ISERROR(L3),\"\",L3)","v":""},"","","",4.3,{"$f":"IF(ISERROR(Q3),\"\",Q3)","v":""},"","","",5.3,{"$f":"IF(ISERROR(V3),\"\",V3)","v":""},"","",""]
[1.4,{"$f":"IF(ISERROR(B4),\"\",B4)","v":""},"","","",2.4,{"$f":"IF(ISERROR(G4),\"\",G4)","v":""},"","","",3.4,{"$f":"IF(ISERROR(L4),\"\",L4)","v":""},"","","",4.4000000000000004,{"$f":"IF(ISERROR(Q4),\"\",Q4)","v":""},"","","",5.4,{"$f":"IF(ISERROR(V4),\"\",V4)","v":""},"","",""]
[1.5,{"$f":"IF(ISERROR(B5),\"\",B5)","v":""},"","","",2.5,{"$f":"IF(ISERROR(G5),\"\",G5)","v":""},"","","",3.5,{"$f":"IF(ISERROR(L5),\"\",L5)","v":""},"","","",4.5,{"$f":"IF(ISERROR(Q5),\"\",Q5)","v":""},"","","",5.5,{"$f":"IF(ISERROR(V5),\"\",V5)","v":""},"","",""]